BEGIN:VCALENDAR
VERSION:2.0
PRODID:-//Carton Studio - ECPv6.10.3//NONSGML v1.0//EN
CALSCALE:GREGORIAN
METHOD:PUBLISH
X-ORIGINAL-URL:https://mail.bycartonstudio.com
X-WR-CALDESC:Events for Carton Studio
REFRESH-INTERVAL;VALUE=DURATION:PT1H
X-Robots-Tag:noindex
X-PUBLISHED-TTL:PT1H
BEGIN:VTIMEZONE
TZID:UTC
BEGIN:STANDARD
TZOFFSETFROM:+0000
TZOFFSETTO:+0000
TZNAME:UTC
DTSTART:20270101T000000
END:STANDARD
END:VTIMEZONE
BEGIN:VEVENT
DTSTART;TZID=UTC:20270621T083000
DTEND;TZID=UTC:20270621T100000
DTSTAMP:20260421T130715
CREATED:20250329T154746Z
LAST-MODIFIED:20250329T185329Z
UID:10000904-1813566600-1813572000@mail.bycartonstudio.com
SUMMARY:שיעורי יוגה -  בהנחיית טל דייגי
DESCRIPTION:
URL:https://mail.bycartonstudio.com/event/yoga-tal/2027-06-21/
CATEGORIES:purple-background
ATTACH;FMTTYPE=image/jpeg:https://mail.bycartonstudio.com/wp-content/uploads/2025/03/485977597_1058006946363940_2181646170934385506_n.jpg
END:VEVENT
BEGIN:VEVENT
DTSTART;TZID=UTC:20270628T083000
DTEND;TZID=UTC:20270628T100000
DTSTAMP:20260421T130715
CREATED:20250329T154746Z
LAST-MODIFIED:20250329T185329Z
UID:10000905-1814171400-1814176800@mail.bycartonstudio.com
SUMMARY:שיעורי יוגה -  בהנחיית טל דייגי
DESCRIPTION:
URL:https://mail.bycartonstudio.com/event/yoga-tal/2027-06-28/
CATEGORIES:purple-background
ATTACH;FMTTYPE=image/jpeg:https://mail.bycartonstudio.com/wp-content/uploads/2025/03/485977597_1058006946363940_2181646170934385506_n.jpg
END:VEVENT
BEGIN:VEVENT
DTSTART;TZID=UTC:20270705T083000
DTEND;TZID=UTC:20270705T100000
DTSTAMP:20260421T130715
CREATED:20250329T154746Z
LAST-MODIFIED:20250329T185329Z
UID:10000906-1814776200-1814781600@mail.bycartonstudio.com
SUMMARY:שיעורי יוגה -  בהנחיית טל דייגי
DESCRIPTION:
URL:https://mail.bycartonstudio.com/event/yoga-tal/2027-07-05/
CATEGORIES:purple-background
ATTACH;FMTTYPE=image/jpeg:https://mail.bycartonstudio.com/wp-content/uploads/2025/03/485977597_1058006946363940_2181646170934385506_n.jpg
END:VEVENT
BEGIN:VEVENT
DTSTART;TZID=UTC:20270712T083000
DTEND;TZID=UTC:20270712T100000
DTSTAMP:20260421T130715
CREATED:20250329T154746Z
LAST-MODIFIED:20250329T185329Z
UID:10000907-1815381000-1815386400@mail.bycartonstudio.com
SUMMARY:שיעורי יוגה -  בהנחיית טל דייגי
DESCRIPTION:
URL:https://mail.bycartonstudio.com/event/yoga-tal/2027-07-12/
CATEGORIES:purple-background
ATTACH;FMTTYPE=image/jpeg:https://mail.bycartonstudio.com/wp-content/uploads/2025/03/485977597_1058006946363940_2181646170934385506_n.jpg
END:VEVENT
BEGIN:VEVENT
DTSTART;TZID=UTC:20270719T083000
DTEND;TZID=UTC:20270719T100000
DTSTAMP:20260421T130715
CREATED:20250329T154746Z
LAST-MODIFIED:20250329T185329Z
UID:10000908-1815985800-1815991200@mail.bycartonstudio.com
SUMMARY:שיעורי יוגה -  בהנחיית טל דייגי
DESCRIPTION:
URL:https://mail.bycartonstudio.com/event/yoga-tal/2027-07-19/
CATEGORIES:purple-background
ATTACH;FMTTYPE=image/jpeg:https://mail.bycartonstudio.com/wp-content/uploads/2025/03/485977597_1058006946363940_2181646170934385506_n.jpg
END:VEVENT
BEGIN:VEVENT
DTSTART;TZID=UTC:20270726T083000
DTEND;TZID=UTC:20270726T100000
DTSTAMP:20260421T130715
CREATED:20250329T154746Z
LAST-MODIFIED:20250329T185329Z
UID:10000909-1816590600-1816596000@mail.bycartonstudio.com
SUMMARY:שיעורי יוגה -  בהנחיית טל דייגי
DESCRIPTION:
URL:https://mail.bycartonstudio.com/event/yoga-tal/2027-07-26/
CATEGORIES:purple-background
ATTACH;FMTTYPE=image/jpeg:https://mail.bycartonstudio.com/wp-content/uploads/2025/03/485977597_1058006946363940_2181646170934385506_n.jpg
END:VEVENT
BEGIN:VEVENT
DTSTART;TZID=UTC:20270802T083000
DTEND;TZID=UTC:20270802T100000
DTSTAMP:20260421T130715
CREATED:20250329T154746Z
LAST-MODIFIED:20250329T185329Z
UID:10000910-1817195400-1817200800@mail.bycartonstudio.com
SUMMARY:שיעורי יוגה -  בהנחיית טל דייגי
DESCRIPTION:
URL:https://mail.bycartonstudio.com/event/yoga-tal/2027-08-02/
CATEGORIES:purple-background
ATTACH;FMTTYPE=image/jpeg:https://mail.bycartonstudio.com/wp-content/uploads/2025/03/485977597_1058006946363940_2181646170934385506_n.jpg
END:VEVENT
BEGIN:VEVENT
DTSTART;TZID=UTC:20270809T083000
DTEND;TZID=UTC:20270809T100000
DTSTAMP:20260421T130715
CREATED:20250329T154746Z
LAST-MODIFIED:20250329T185329Z
UID:10000911-1817800200-1817805600@mail.bycartonstudio.com
SUMMARY:שיעורי יוגה -  בהנחיית טל דייגי
DESCRIPTION:
URL:https://mail.bycartonstudio.com/event/yoga-tal/2027-08-09/
CATEGORIES:purple-background
ATTACH;FMTTYPE=image/jpeg:https://mail.bycartonstudio.com/wp-content/uploads/2025/03/485977597_1058006946363940_2181646170934385506_n.jpg
END:VEVENT
BEGIN:VEVENT
DTSTART;TZID=UTC:20270816T083000
DTEND;TZID=UTC:20270816T100000
DTSTAMP:20260421T130715
CREATED:20250329T154746Z
LAST-MODIFIED:20250329T185329Z
UID:10000912-1818405000-1818410400@mail.bycartonstudio.com
SUMMARY:שיעורי יוגה -  בהנחיית טל דייגי
DESCRIPTION:
URL:https://mail.bycartonstudio.com/event/yoga-tal/2027-08-16/
CATEGORIES:purple-background
ATTACH;FMTTYPE=image/jpeg:https://mail.bycartonstudio.com/wp-content/uploads/2025/03/485977597_1058006946363940_2181646170934385506_n.jpg
END:VEVENT
BEGIN:VEVENT
DTSTART;TZID=UTC:20270823T083000
DTEND;TZID=UTC:20270823T100000
DTSTAMP:20260421T130715
CREATED:20250329T154746Z
LAST-MODIFIED:20250329T185329Z
UID:10000913-1819009800-1819015200@mail.bycartonstudio.com
SUMMARY:שיעורי יוגה -  בהנחיית טל דייגי
DESCRIPTION:
URL:https://mail.bycartonstudio.com/event/yoga-tal/2027-08-23/
CATEGORIES:purple-background
ATTACH;FMTTYPE=image/jpeg:https://mail.bycartonstudio.com/wp-content/uploads/2025/03/485977597_1058006946363940_2181646170934385506_n.jpg
END:VEVENT
BEGIN:VEVENT
DTSTART;TZID=UTC:20270830T083000
DTEND;TZID=UTC:20270830T100000
DTSTAMP:20260421T130715
CREATED:20250329T154746Z
LAST-MODIFIED:20250329T185329Z
UID:10000914-1819614600-1819620000@mail.bycartonstudio.com
SUMMARY:שיעורי יוגה -  בהנחיית טל דייגי
DESCRIPTION:
URL:https://mail.bycartonstudio.com/event/yoga-tal/2027-08-30/
CATEGORIES:purple-background
ATTACH;FMTTYPE=image/jpeg:https://mail.bycartonstudio.com/wp-content/uploads/2025/03/485977597_1058006946363940_2181646170934385506_n.jpg
END:VEVENT
BEGIN:VEVENT
DTSTART;TZID=UTC:20270906T083000
DTEND;TZID=UTC:20270906T100000
DTSTAMP:20260421T130715
CREATED:20250329T154746Z
LAST-MODIFIED:20250329T185329Z
UID:10000915-1820219400-1820224800@mail.bycartonstudio.com
SUMMARY:שיעורי יוגה -  בהנחיית טל דייגי
DESCRIPTION:
URL:https://mail.bycartonstudio.com/event/yoga-tal/2027-09-06/
CATEGORIES:purple-background
ATTACH;FMTTYPE=image/jpeg:https://mail.bycartonstudio.com/wp-content/uploads/2025/03/485977597_1058006946363940_2181646170934385506_n.jpg
END:VEVENT
BEGIN:VEVENT
DTSTART;TZID=UTC:20270913T083000
DTEND;TZID=UTC:20270913T100000
DTSTAMP:20260421T130715
CREATED:20250329T154746Z
LAST-MODIFIED:20250329T185329Z
UID:10000916-1820824200-1820829600@mail.bycartonstudio.com
SUMMARY:שיעורי יוגה -  בהנחיית טל דייגי
DESCRIPTION:
URL:https://mail.bycartonstudio.com/event/yoga-tal/2027-09-13/
CATEGORIES:purple-background
ATTACH;FMTTYPE=image/jpeg:https://mail.bycartonstudio.com/wp-content/uploads/2025/03/485977597_1058006946363940_2181646170934385506_n.jpg
END:VEVENT
BEGIN:VEVENT
DTSTART;TZID=UTC:20270920T083000
DTEND;TZID=UTC:20270920T100000
DTSTAMP:20260421T130715
CREATED:20250329T154746Z
LAST-MODIFIED:20250329T185329Z
UID:10000917-1821429000-1821434400@mail.bycartonstudio.com
SUMMARY:שיעורי יוגה -  בהנחיית טל דייגי
DESCRIPTION:
URL:https://mail.bycartonstudio.com/event/yoga-tal/2027-09-20/
CATEGORIES:purple-background
ATTACH;FMTTYPE=image/jpeg:https://mail.bycartonstudio.com/wp-content/uploads/2025/03/485977597_1058006946363940_2181646170934385506_n.jpg
END:VEVENT
BEGIN:VEVENT
DTSTART;TZID=UTC:20270927T083000
DTEND;TZID=UTC:20270927T100000
DTSTAMP:20260421T130715
CREATED:20250329T154746Z
LAST-MODIFIED:20250329T185329Z
UID:10000918-1822033800-1822039200@mail.bycartonstudio.com
SUMMARY:שיעורי יוגה -  בהנחיית טל דייגי
DESCRIPTION:
URL:https://mail.bycartonstudio.com/event/yoga-tal/2027-09-27/
CATEGORIES:purple-background
ATTACH;FMTTYPE=image/jpeg:https://mail.bycartonstudio.com/wp-content/uploads/2025/03/485977597_1058006946363940_2181646170934385506_n.jpg
END:VEVENT
BEGIN:VEVENT
DTSTART;TZID=UTC:20271004T083000
DTEND;TZID=UTC:20271004T100000
DTSTAMP:20260421T130715
CREATED:20250329T154746Z
LAST-MODIFIED:20250329T185329Z
UID:10000919-1822638600-1822644000@mail.bycartonstudio.com
SUMMARY:שיעורי יוגה -  בהנחיית טל דייגי
DESCRIPTION:
URL:https://mail.bycartonstudio.com/event/yoga-tal/2027-10-04/
CATEGORIES:purple-background
ATTACH;FMTTYPE=image/jpeg:https://mail.bycartonstudio.com/wp-content/uploads/2025/03/485977597_1058006946363940_2181646170934385506_n.jpg
END:VEVENT
BEGIN:VEVENT
DTSTART;TZID=UTC:20271011T083000
DTEND;TZID=UTC:20271011T100000
DTSTAMP:20260421T130715
CREATED:20250329T154746Z
LAST-MODIFIED:20250329T185329Z
UID:10000920-1823243400-1823248800@mail.bycartonstudio.com
SUMMARY:שיעורי יוגה -  בהנחיית טל דייגי
DESCRIPTION:
URL:https://mail.bycartonstudio.com/event/yoga-tal/2027-10-11/
CATEGORIES:purple-background
ATTACH;FMTTYPE=image/jpeg:https://mail.bycartonstudio.com/wp-content/uploads/2025/03/485977597_1058006946363940_2181646170934385506_n.jpg
END:VEVENT
BEGIN:VEVENT
DTSTART;TZID=UTC:20271018T083000
DTEND;TZID=UTC:20271018T100000
DTSTAMP:20260421T130715
CREATED:20250329T154746Z
LAST-MODIFIED:20250329T185329Z
UID:10000921-1823848200-1823853600@mail.bycartonstudio.com
SUMMARY:שיעורי יוגה -  בהנחיית טל דייגי
DESCRIPTION:
URL:https://mail.bycartonstudio.com/event/yoga-tal/2027-10-18/
CATEGORIES:purple-background
ATTACH;FMTTYPE=image/jpeg:https://mail.bycartonstudio.com/wp-content/uploads/2025/03/485977597_1058006946363940_2181646170934385506_n.jpg
END:VEVENT
BEGIN:VEVENT
DTSTART;TZID=UTC:20271025T083000
DTEND;TZID=UTC:20271025T100000
DTSTAMP:20260421T130715
CREATED:20250329T154746Z
LAST-MODIFIED:20250329T185329Z
UID:10000922-1824453000-1824458400@mail.bycartonstudio.com
SUMMARY:שיעורי יוגה -  בהנחיית טל דייגי
DESCRIPTION:
URL:https://mail.bycartonstudio.com/event/yoga-tal/2027-10-25/
CATEGORIES:purple-background
ATTACH;FMTTYPE=image/jpeg:https://mail.bycartonstudio.com/wp-content/uploads/2025/03/485977597_1058006946363940_2181646170934385506_n.jpg
END:VEVENT
BEGIN:VEVENT
DTSTART;TZID=UTC:20271101T083000
DTEND;TZID=UTC:20271101T100000
DTSTAMP:20260421T130715
CREATED:20250329T154746Z
LAST-MODIFIED:20250329T185329Z
UID:10000923-1825057800-1825063200@mail.bycartonstudio.com
SUMMARY:שיעורי יוגה -  בהנחיית טל דייגי
DESCRIPTION:
URL:https://mail.bycartonstudio.com/event/yoga-tal/2027-11-01/
CATEGORIES:purple-background
ATTACH;FMTTYPE=image/jpeg:https://mail.bycartonstudio.com/wp-content/uploads/2025/03/485977597_1058006946363940_2181646170934385506_n.jpg
END:VEVENT
BEGIN:VEVENT
DTSTART;TZID=UTC:20271108T083000
DTEND;TZID=UTC:20271108T100000
DTSTAMP:20260421T130715
CREATED:20250329T154746Z
LAST-MODIFIED:20250329T185329Z
UID:10000924-1825662600-1825668000@mail.bycartonstudio.com
SUMMARY:שיעורי יוגה -  בהנחיית טל דייגי
DESCRIPTION:
URL:https://mail.bycartonstudio.com/event/yoga-tal/2027-11-08/
CATEGORIES:purple-background
ATTACH;FMTTYPE=image/jpeg:https://mail.bycartonstudio.com/wp-content/uploads/2025/03/485977597_1058006946363940_2181646170934385506_n.jpg
END:VEVENT
BEGIN:VEVENT
DTSTART;TZID=UTC:20271115T083000
DTEND;TZID=UTC:20271115T100000
DTSTAMP:20260421T130715
CREATED:20250329T154746Z
LAST-MODIFIED:20250329T185329Z
UID:10000925-1826267400-1826272800@mail.bycartonstudio.com
SUMMARY:שיעורי יוגה -  בהנחיית טל דייגי
DESCRIPTION:
URL:https://mail.bycartonstudio.com/event/yoga-tal/2027-11-15/
CATEGORIES:purple-background
ATTACH;FMTTYPE=image/jpeg:https://mail.bycartonstudio.com/wp-content/uploads/2025/03/485977597_1058006946363940_2181646170934385506_n.jpg
END:VEVENT
BEGIN:VEVENT
DTSTART;TZID=UTC:20271122T083000
DTEND;TZID=UTC:20271122T100000
DTSTAMP:20260421T130715
CREATED:20250329T154746Z
LAST-MODIFIED:20250329T185329Z
UID:10000926-1826872200-1826877600@mail.bycartonstudio.com
SUMMARY:שיעורי יוגה -  בהנחיית טל דייגי
DESCRIPTION:
URL:https://mail.bycartonstudio.com/event/yoga-tal/2027-11-22/
CATEGORIES:purple-background
ATTACH;FMTTYPE=image/jpeg:https://mail.bycartonstudio.com/wp-content/uploads/2025/03/485977597_1058006946363940_2181646170934385506_n.jpg
END:VEVENT
BEGIN:VEVENT
DTSTART;TZID=UTC:20271129T083000
DTEND;TZID=UTC:20271129T100000
DTSTAMP:20260421T130715
CREATED:20250329T154746Z
LAST-MODIFIED:20250329T185329Z
UID:10000927-1827477000-1827482400@mail.bycartonstudio.com
SUMMARY:שיעורי יוגה -  בהנחיית טל דייגי
DESCRIPTION:
URL:https://mail.bycartonstudio.com/event/yoga-tal/2027-11-29/
CATEGORIES:purple-background
ATTACH;FMTTYPE=image/jpeg:https://mail.bycartonstudio.com/wp-content/uploads/2025/03/485977597_1058006946363940_2181646170934385506_n.jpg
END:VEVENT
BEGIN:VEVENT
DTSTART;TZID=UTC:20271206T083000
DTEND;TZID=UTC:20271206T100000
DTSTAMP:20260421T130715
CREATED:20250329T154746Z
LAST-MODIFIED:20250329T185329Z
UID:10000928-1828081800-1828087200@mail.bycartonstudio.com
SUMMARY:שיעורי יוגה -  בהנחיית טל דייגי
DESCRIPTION:
URL:https://mail.bycartonstudio.com/event/yoga-tal/2027-12-06/
CATEGORIES:purple-background
ATTACH;FMTTYPE=image/jpeg:https://mail.bycartonstudio.com/wp-content/uploads/2025/03/485977597_1058006946363940_2181646170934385506_n.jpg
END:VEVENT
BEGIN:VEVENT
DTSTART;TZID=UTC:20271213T083000
DTEND;TZID=UTC:20271213T100000
DTSTAMP:20260421T130715
CREATED:20250329T154746Z
LAST-MODIFIED:20250329T185329Z
UID:10000929-1828686600-1828692000@mail.bycartonstudio.com
SUMMARY:שיעורי יוגה -  בהנחיית טל דייגי
DESCRIPTION:
URL:https://mail.bycartonstudio.com/event/yoga-tal/2027-12-13/
CATEGORIES:purple-background
ATTACH;FMTTYPE=image/jpeg:https://mail.bycartonstudio.com/wp-content/uploads/2025/03/485977597_1058006946363940_2181646170934385506_n.jpg
END:VEVENT
BEGIN:VEVENT
DTSTART;TZID=UTC:20271220T083000
DTEND;TZID=UTC:20271220T100000
DTSTAMP:20260421T130715
CREATED:20250329T154746Z
LAST-MODIFIED:20250329T185329Z
UID:10000930-1829291400-1829296800@mail.bycartonstudio.com
SUMMARY:שיעורי יוגה -  בהנחיית טל דייגי
DESCRIPTION:
URL:https://mail.bycartonstudio.com/event/yoga-tal/2027-12-20/
CATEGORIES:purple-background
ATTACH;FMTTYPE=image/jpeg:https://mail.bycartonstudio.com/wp-content/uploads/2025/03/485977597_1058006946363940_2181646170934385506_n.jpg
END:VEVENT
BEGIN:VEVENT
DTSTART;TZID=UTC:20271227T083000
DTEND;TZID=UTC:20271227T100000
DTSTAMP:20260421T130715
CREATED:20250329T154746Z
LAST-MODIFIED:20250329T185329Z
UID:10000931-1829896200-1829901600@mail.bycartonstudio.com
SUMMARY:שיעורי יוגה -  בהנחיית טל דייגי
DESCRIPTION:
URL:https://mail.bycartonstudio.com/event/yoga-tal/2027-12-27/
CATEGORIES:purple-background
ATTACH;FMTTYPE=image/jpeg:https://mail.bycartonstudio.com/wp-content/uploads/2025/03/485977597_1058006946363940_2181646170934385506_n.jpg
END:VEVENT
BEGIN:VEVENT
DTSTART;TZID=UTC:20280103T083000
DTEND;TZID=UTC:20280103T100000
DTSTAMP:20260421T130715
CREATED:20250329T154746Z
LAST-MODIFIED:20250329T185329Z
UID:10000932-1830501000-1830506400@mail.bycartonstudio.com
SUMMARY:שיעורי יוגה -  בהנחיית טל דייגי
DESCRIPTION:
URL:https://mail.bycartonstudio.com/event/yoga-tal/2028-01-03/
CATEGORIES:purple-background
ATTACH;FMTTYPE=image/jpeg:https://mail.bycartonstudio.com/wp-content/uploads/2025/03/485977597_1058006946363940_2181646170934385506_n.jpg
END:VEVENT
BEGIN:VEVENT
DTSTART;TZID=UTC:20280110T083000
DTEND;TZID=UTC:20280110T100000
DTSTAMP:20260421T130715
CREATED:20250329T154746Z
LAST-MODIFIED:20250329T185329Z
UID:10000933-1831105800-1831111200@mail.bycartonstudio.com
SUMMARY:שיעורי יוגה -  בהנחיית טל דייגי
DESCRIPTION:
URL:https://mail.bycartonstudio.com/event/yoga-tal/2028-01-10/
CATEGORIES:purple-background
ATTACH;FMTTYPE=image/jpeg:https://mail.bycartonstudio.com/wp-content/uploads/2025/03/485977597_1058006946363940_2181646170934385506_n.jpg
END:VEVENT
END:VCALENDAR