BEGIN:VCALENDAR
VERSION:2.0
PRODID:-//Carton Studio - ECPv6.10.3//NONSGML v1.0//EN
CALSCALE:GREGORIAN
METHOD:PUBLISH
X-ORIGINAL-URL:https://mail.bycartonstudio.com
X-WR-CALDESC:Events for Carton Studio
REFRESH-INTERVAL;VALUE=DURATION:PT1H
X-Robots-Tag:noindex
X-PUBLISHED-TTL:PT1H
BEGIN:VTIMEZONE
TZID:UTC
BEGIN:STANDARD
TZOFFSETFROM:+0000
TZOFFSETTO:+0000
TZNAME:UTC
DTSTART:20290101T000000
END:STANDARD
END:VTIMEZONE
BEGIN:VEVENT
DTSTART;TZID=UTC:20291008T083000
DTEND;TZID=UTC:20291008T100000
DTSTAMP:20260422T041812
CREATED:20250329T154746Z
LAST-MODIFIED:20250329T185329Z
UID:10001024-1886142600-1886148000@mail.bycartonstudio.com
SUMMARY:שיעורי יוגה -  בהנחיית טל דייגי
DESCRIPTION:
URL:https://mail.bycartonstudio.com/event/yoga-tal/2029-10-08/
CATEGORIES:purple-background
ATTACH;FMTTYPE=image/jpeg:https://mail.bycartonstudio.com/wp-content/uploads/2025/03/485977597_1058006946363940_2181646170934385506_n.jpg
END:VEVENT
BEGIN:VEVENT
DTSTART;TZID=UTC:20291015T083000
DTEND;TZID=UTC:20291015T100000
DTSTAMP:20260422T041812
CREATED:20250329T154746Z
LAST-MODIFIED:20250329T185329Z
UID:10001025-1886747400-1886752800@mail.bycartonstudio.com
SUMMARY:שיעורי יוגה -  בהנחיית טל דייגי
DESCRIPTION:
URL:https://mail.bycartonstudio.com/event/yoga-tal/2029-10-15/
CATEGORIES:purple-background
ATTACH;FMTTYPE=image/jpeg:https://mail.bycartonstudio.com/wp-content/uploads/2025/03/485977597_1058006946363940_2181646170934385506_n.jpg
END:VEVENT
BEGIN:VEVENT
DTSTART;TZID=UTC:20291022T083000
DTEND;TZID=UTC:20291022T100000
DTSTAMP:20260422T041812
CREATED:20250329T154746Z
LAST-MODIFIED:20250329T185329Z
UID:10001026-1887352200-1887357600@mail.bycartonstudio.com
SUMMARY:שיעורי יוגה -  בהנחיית טל דייגי
DESCRIPTION:
URL:https://mail.bycartonstudio.com/event/yoga-tal/2029-10-22/
CATEGORIES:purple-background
ATTACH;FMTTYPE=image/jpeg:https://mail.bycartonstudio.com/wp-content/uploads/2025/03/485977597_1058006946363940_2181646170934385506_n.jpg
END:VEVENT
BEGIN:VEVENT
DTSTART;TZID=UTC:20291029T083000
DTEND;TZID=UTC:20291029T100000
DTSTAMP:20260422T041812
CREATED:20250329T154746Z
LAST-MODIFIED:20250329T185329Z
UID:10001027-1887957000-1887962400@mail.bycartonstudio.com
SUMMARY:שיעורי יוגה -  בהנחיית טל דייגי
DESCRIPTION:
URL:https://mail.bycartonstudio.com/event/yoga-tal/2029-10-29/
CATEGORIES:purple-background
ATTACH;FMTTYPE=image/jpeg:https://mail.bycartonstudio.com/wp-content/uploads/2025/03/485977597_1058006946363940_2181646170934385506_n.jpg
END:VEVENT
BEGIN:VEVENT
DTSTART;TZID=UTC:20291105T083000
DTEND;TZID=UTC:20291105T100000
DTSTAMP:20260422T041812
CREATED:20250329T154746Z
LAST-MODIFIED:20250329T185329Z
UID:10001028-1888561800-1888567200@mail.bycartonstudio.com
SUMMARY:שיעורי יוגה -  בהנחיית טל דייגי
DESCRIPTION:
URL:https://mail.bycartonstudio.com/event/yoga-tal/2029-11-05/
CATEGORIES:purple-background
ATTACH;FMTTYPE=image/jpeg:https://mail.bycartonstudio.com/wp-content/uploads/2025/03/485977597_1058006946363940_2181646170934385506_n.jpg
END:VEVENT
BEGIN:VEVENT
DTSTART;TZID=UTC:20291112T083000
DTEND;TZID=UTC:20291112T100000
DTSTAMP:20260422T041812
CREATED:20250329T154746Z
LAST-MODIFIED:20250329T185329Z
UID:10001029-1889166600-1889172000@mail.bycartonstudio.com
SUMMARY:שיעורי יוגה -  בהנחיית טל דייגי
DESCRIPTION:
URL:https://mail.bycartonstudio.com/event/yoga-tal/2029-11-12/
CATEGORIES:purple-background
ATTACH;FMTTYPE=image/jpeg:https://mail.bycartonstudio.com/wp-content/uploads/2025/03/485977597_1058006946363940_2181646170934385506_n.jpg
END:VEVENT
BEGIN:VEVENT
DTSTART;TZID=UTC:20291119T083000
DTEND;TZID=UTC:20291119T100000
DTSTAMP:20260422T041812
CREATED:20250329T154746Z
LAST-MODIFIED:20250329T185329Z
UID:10001030-1889771400-1889776800@mail.bycartonstudio.com
SUMMARY:שיעורי יוגה -  בהנחיית טל דייגי
DESCRIPTION:
URL:https://mail.bycartonstudio.com/event/yoga-tal/2029-11-19/
CATEGORIES:purple-background
ATTACH;FMTTYPE=image/jpeg:https://mail.bycartonstudio.com/wp-content/uploads/2025/03/485977597_1058006946363940_2181646170934385506_n.jpg
END:VEVENT
BEGIN:VEVENT
DTSTART;TZID=UTC:20291126T083000
DTEND;TZID=UTC:20291126T100000
DTSTAMP:20260422T041812
CREATED:20250329T154746Z
LAST-MODIFIED:20250329T185329Z
UID:10001031-1890376200-1890381600@mail.bycartonstudio.com
SUMMARY:שיעורי יוגה -  בהנחיית טל דייגי
DESCRIPTION:
URL:https://mail.bycartonstudio.com/event/yoga-tal/2029-11-26/
CATEGORIES:purple-background
ATTACH;FMTTYPE=image/jpeg:https://mail.bycartonstudio.com/wp-content/uploads/2025/03/485977597_1058006946363940_2181646170934385506_n.jpg
END:VEVENT
BEGIN:VEVENT
DTSTART;TZID=UTC:20291203T083000
DTEND;TZID=UTC:20291203T100000
DTSTAMP:20260422T041812
CREATED:20250329T154746Z
LAST-MODIFIED:20250329T185329Z
UID:10001032-1890981000-1890986400@mail.bycartonstudio.com
SUMMARY:שיעורי יוגה -  בהנחיית טל דייגי
DESCRIPTION:
URL:https://mail.bycartonstudio.com/event/yoga-tal/2029-12-03/
CATEGORIES:purple-background
ATTACH;FMTTYPE=image/jpeg:https://mail.bycartonstudio.com/wp-content/uploads/2025/03/485977597_1058006946363940_2181646170934385506_n.jpg
END:VEVENT
BEGIN:VEVENT
DTSTART;TZID=UTC:20291210T083000
DTEND;TZID=UTC:20291210T100000
DTSTAMP:20260422T041812
CREATED:20250329T154746Z
LAST-MODIFIED:20250329T185329Z
UID:10001033-1891585800-1891591200@mail.bycartonstudio.com
SUMMARY:שיעורי יוגה -  בהנחיית טל דייגי
DESCRIPTION:
URL:https://mail.bycartonstudio.com/event/yoga-tal/2029-12-10/
CATEGORIES:purple-background
ATTACH;FMTTYPE=image/jpeg:https://mail.bycartonstudio.com/wp-content/uploads/2025/03/485977597_1058006946363940_2181646170934385506_n.jpg
END:VEVENT
BEGIN:VEVENT
DTSTART;TZID=UTC:20291217T083000
DTEND;TZID=UTC:20291217T100000
DTSTAMP:20260422T041812
CREATED:20250329T154746Z
LAST-MODIFIED:20250329T185329Z
UID:10001034-1892190600-1892196000@mail.bycartonstudio.com
SUMMARY:שיעורי יוגה -  בהנחיית טל דייגי
DESCRIPTION:
URL:https://mail.bycartonstudio.com/event/yoga-tal/2029-12-17/
CATEGORIES:purple-background
ATTACH;FMTTYPE=image/jpeg:https://mail.bycartonstudio.com/wp-content/uploads/2025/03/485977597_1058006946363940_2181646170934385506_n.jpg
END:VEVENT
BEGIN:VEVENT
DTSTART;TZID=UTC:20291224T083000
DTEND;TZID=UTC:20291224T100000
DTSTAMP:20260422T041812
CREATED:20250329T154746Z
LAST-MODIFIED:20250329T185329Z
UID:10001035-1892795400-1892800800@mail.bycartonstudio.com
SUMMARY:שיעורי יוגה -  בהנחיית טל דייגי
DESCRIPTION:
URL:https://mail.bycartonstudio.com/event/yoga-tal/2029-12-24/
CATEGORIES:purple-background
ATTACH;FMTTYPE=image/jpeg:https://mail.bycartonstudio.com/wp-content/uploads/2025/03/485977597_1058006946363940_2181646170934385506_n.jpg
END:VEVENT
BEGIN:VEVENT
DTSTART;TZID=UTC:20291231T083000
DTEND;TZID=UTC:20291231T100000
DTSTAMP:20260422T041812
CREATED:20250329T154746Z
LAST-MODIFIED:20250329T185329Z
UID:10001036-1893400200-1893405600@mail.bycartonstudio.com
SUMMARY:שיעורי יוגה -  בהנחיית טל דייגי
DESCRIPTION:
URL:https://mail.bycartonstudio.com/event/yoga-tal/2029-12-31/
CATEGORIES:purple-background
ATTACH;FMTTYPE=image/jpeg:https://mail.bycartonstudio.com/wp-content/uploads/2025/03/485977597_1058006946363940_2181646170934385506_n.jpg
END:VEVENT
BEGIN:VEVENT
DTSTART;TZID=UTC:20300107T083000
DTEND;TZID=UTC:20300107T100000
DTSTAMP:20260422T041812
CREATED:20250329T154746Z
LAST-MODIFIED:20250329T185329Z
UID:10001037-1894005000-1894010400@mail.bycartonstudio.com
SUMMARY:שיעורי יוגה -  בהנחיית טל דייגי
DESCRIPTION:
URL:https://mail.bycartonstudio.com/event/yoga-tal/2030-01-07/
CATEGORIES:purple-background
ATTACH;FMTTYPE=image/jpeg:https://mail.bycartonstudio.com/wp-content/uploads/2025/03/485977597_1058006946363940_2181646170934385506_n.jpg
END:VEVENT
BEGIN:VEVENT
DTSTART;TZID=UTC:20300114T083000
DTEND;TZID=UTC:20300114T100000
DTSTAMP:20260422T041812
CREATED:20250329T154746Z
LAST-MODIFIED:20250329T185329Z
UID:10001038-1894609800-1894615200@mail.bycartonstudio.com
SUMMARY:שיעורי יוגה -  בהנחיית טל דייגי
DESCRIPTION:
URL:https://mail.bycartonstudio.com/event/yoga-tal/2030-01-14/
CATEGORIES:purple-background
ATTACH;FMTTYPE=image/jpeg:https://mail.bycartonstudio.com/wp-content/uploads/2025/03/485977597_1058006946363940_2181646170934385506_n.jpg
END:VEVENT
BEGIN:VEVENT
DTSTART;TZID=UTC:20300121T083000
DTEND;TZID=UTC:20300121T100000
DTSTAMP:20260422T041812
CREATED:20250329T154746Z
LAST-MODIFIED:20250329T185329Z
UID:10001039-1895214600-1895220000@mail.bycartonstudio.com
SUMMARY:שיעורי יוגה -  בהנחיית טל דייגי
DESCRIPTION:
URL:https://mail.bycartonstudio.com/event/yoga-tal/2030-01-21/
CATEGORIES:purple-background
ATTACH;FMTTYPE=image/jpeg:https://mail.bycartonstudio.com/wp-content/uploads/2025/03/485977597_1058006946363940_2181646170934385506_n.jpg
END:VEVENT
BEGIN:VEVENT
DTSTART;TZID=UTC:20300128T083000
DTEND;TZID=UTC:20300128T100000
DTSTAMP:20260422T041812
CREATED:20250329T154746Z
LAST-MODIFIED:20250329T185329Z
UID:10001040-1895819400-1895824800@mail.bycartonstudio.com
SUMMARY:שיעורי יוגה -  בהנחיית טל דייגי
DESCRIPTION:
URL:https://mail.bycartonstudio.com/event/yoga-tal/2030-01-28/
CATEGORIES:purple-background
ATTACH;FMTTYPE=image/jpeg:https://mail.bycartonstudio.com/wp-content/uploads/2025/03/485977597_1058006946363940_2181646170934385506_n.jpg
END:VEVENT
BEGIN:VEVENT
DTSTART;TZID=UTC:20300204T083000
DTEND;TZID=UTC:20300204T100000
DTSTAMP:20260422T041812
CREATED:20250329T154746Z
LAST-MODIFIED:20250329T185329Z
UID:10001041-1896424200-1896429600@mail.bycartonstudio.com
SUMMARY:שיעורי יוגה -  בהנחיית טל דייגי
DESCRIPTION:
URL:https://mail.bycartonstudio.com/event/yoga-tal/2030-02-04/
CATEGORIES:purple-background
ATTACH;FMTTYPE=image/jpeg:https://mail.bycartonstudio.com/wp-content/uploads/2025/03/485977597_1058006946363940_2181646170934385506_n.jpg
END:VEVENT
BEGIN:VEVENT
DTSTART;TZID=UTC:20300211T083000
DTEND;TZID=UTC:20300211T100000
DTSTAMP:20260422T041812
CREATED:20250329T154746Z
LAST-MODIFIED:20250329T185329Z
UID:10001042-1897029000-1897034400@mail.bycartonstudio.com
SUMMARY:שיעורי יוגה -  בהנחיית טל דייגי
DESCRIPTION:
URL:https://mail.bycartonstudio.com/event/yoga-tal/2030-02-11/
CATEGORIES:purple-background
ATTACH;FMTTYPE=image/jpeg:https://mail.bycartonstudio.com/wp-content/uploads/2025/03/485977597_1058006946363940_2181646170934385506_n.jpg
END:VEVENT
BEGIN:VEVENT
DTSTART;TZID=UTC:20300218T083000
DTEND;TZID=UTC:20300218T100000
DTSTAMP:20260422T041812
CREATED:20250329T154746Z
LAST-MODIFIED:20250329T185329Z
UID:10001043-1897633800-1897639200@mail.bycartonstudio.com
SUMMARY:שיעורי יוגה -  בהנחיית טל דייגי
DESCRIPTION:
URL:https://mail.bycartonstudio.com/event/yoga-tal/2030-02-18/
CATEGORIES:purple-background
ATTACH;FMTTYPE=image/jpeg:https://mail.bycartonstudio.com/wp-content/uploads/2025/03/485977597_1058006946363940_2181646170934385506_n.jpg
END:VEVENT
BEGIN:VEVENT
DTSTART;TZID=UTC:20300225T083000
DTEND;TZID=UTC:20300225T100000
DTSTAMP:20260422T041812
CREATED:20250329T154746Z
LAST-MODIFIED:20250329T185329Z
UID:10001044-1898238600-1898244000@mail.bycartonstudio.com
SUMMARY:שיעורי יוגה -  בהנחיית טל דייגי
DESCRIPTION:
URL:https://mail.bycartonstudio.com/event/yoga-tal/2030-02-25/
CATEGORIES:purple-background
ATTACH;FMTTYPE=image/jpeg:https://mail.bycartonstudio.com/wp-content/uploads/2025/03/485977597_1058006946363940_2181646170934385506_n.jpg
END:VEVENT
BEGIN:VEVENT
DTSTART;TZID=UTC:20300304T083000
DTEND;TZID=UTC:20300304T100000
DTSTAMP:20260422T041812
CREATED:20250329T154746Z
LAST-MODIFIED:20250329T185329Z
UID:10001045-1898843400-1898848800@mail.bycartonstudio.com
SUMMARY:שיעורי יוגה -  בהנחיית טל דייגי
DESCRIPTION:
URL:https://mail.bycartonstudio.com/event/yoga-tal/2030-03-04/
CATEGORIES:purple-background
ATTACH;FMTTYPE=image/jpeg:https://mail.bycartonstudio.com/wp-content/uploads/2025/03/485977597_1058006946363940_2181646170934385506_n.jpg
END:VEVENT
BEGIN:VEVENT
DTSTART;TZID=UTC:20300311T083000
DTEND;TZID=UTC:20300311T100000
DTSTAMP:20260422T041812
CREATED:20250329T154746Z
LAST-MODIFIED:20250329T185329Z
UID:10001046-1899448200-1899453600@mail.bycartonstudio.com
SUMMARY:שיעורי יוגה -  בהנחיית טל דייגי
DESCRIPTION:
URL:https://mail.bycartonstudio.com/event/yoga-tal/2030-03-11/
CATEGORIES:purple-background
ATTACH;FMTTYPE=image/jpeg:https://mail.bycartonstudio.com/wp-content/uploads/2025/03/485977597_1058006946363940_2181646170934385506_n.jpg
END:VEVENT
BEGIN:VEVENT
DTSTART;TZID=UTC:20300318T083000
DTEND;TZID=UTC:20300318T100000
DTSTAMP:20260422T041812
CREATED:20250329T154746Z
LAST-MODIFIED:20250329T185329Z
UID:10001047-1900053000-1900058400@mail.bycartonstudio.com
SUMMARY:שיעורי יוגה -  בהנחיית טל דייגי
DESCRIPTION:
URL:https://mail.bycartonstudio.com/event/yoga-tal/2030-03-18/
CATEGORIES:purple-background
ATTACH;FMTTYPE=image/jpeg:https://mail.bycartonstudio.com/wp-content/uploads/2025/03/485977597_1058006946363940_2181646170934385506_n.jpg
END:VEVENT
BEGIN:VEVENT
DTSTART;TZID=UTC:20300325T083000
DTEND;TZID=UTC:20300325T100000
DTSTAMP:20260422T041812
CREATED:20250329T154746Z
LAST-MODIFIED:20250329T185329Z
UID:10001048-1900657800-1900663200@mail.bycartonstudio.com
SUMMARY:שיעורי יוגה -  בהנחיית טל דייגי
DESCRIPTION:
URL:https://mail.bycartonstudio.com/event/yoga-tal/2030-03-25/
CATEGORIES:purple-background
ATTACH;FMTTYPE=image/jpeg:https://mail.bycartonstudio.com/wp-content/uploads/2025/03/485977597_1058006946363940_2181646170934385506_n.jpg
END:VEVENT
END:VCALENDAR