BEGIN:VCALENDAR
VERSION:2.0
PRODID:-//Carton Studio - ECPv6.10.3//NONSGML v1.0//EN
CALSCALE:GREGORIAN
METHOD:PUBLISH
X-ORIGINAL-URL:https://mail.bycartonstudio.com
X-WR-CALDESC:Events for Carton Studio
REFRESH-INTERVAL;VALUE=DURATION:PT1H
X-Robots-Tag:noindex
X-PUBLISHED-TTL:PT1H
BEGIN:VTIMEZONE
TZID:UTC
BEGIN:STANDARD
TZOFFSETFROM:+0000
TZOFFSETTO:+0000
TZNAME:UTC
DTSTART:20300101T000000
END:STANDARD
END:VTIMEZONE
BEGIN:VEVENT
DTSTART;TZID=UTC:20300201T100000
DTEND;TZID=UTC:20300201T140000
DTSTAMP:20260423T155301
CREATED:20250329T190121Z
LAST-MODIFIED:20250330T082550Z
UID:10001305-1896170400-1896184800@mail.bycartonstudio.com
SUMMARY:המוזיאון פתוח לביקורים
DESCRIPTION:[vc_row][vc_column][vc_column_text]ימי שישי מ-10:00 עד 14:00\nביקורים מודרכים במוזיאון הקרטון וסדנאות יצירה עם גלילי קרטון. \n– כניסה אומנותית – 20 ש"ח למשתתף\n– סדנאות עם גלילי קרטון בתוספת של 30 ש"ח\nהביקור כולל סיור בחלל המוזיאון\, מפגש עם האמנית לולה אליאן קצ'קה –\nאמנית פלסטית ומעצבת מוצר\, המציגה את גישתה –\n"Cardboard State Of Mind" ואת הדרך שהובילה אותה לעולם הקרטון. \n  \n[/vc_column_text][/vc_column][/vc_row]
URL:https://mail.bycartonstudio.com/event/open-museum/2030-02-01/
CATEGORIES:blue-background
ATTACH;FMTTYPE=image/jpeg:https://mail.bycartonstudio.com/wp-content/uploads/2021/01/carton-museum-home.jpg
END:VEVENT
BEGIN:VEVENT
DTSTART;TZID=UTC:20300204T083000
DTEND;TZID=UTC:20300204T100000
DTSTAMP:20260423T155301
CREATED:20250329T154746Z
LAST-MODIFIED:20250329T185329Z
UID:10001041-1896424200-1896429600@mail.bycartonstudio.com
SUMMARY:שיעורי יוגה -  בהנחיית טל דייגי
DESCRIPTION:
URL:https://mail.bycartonstudio.com/event/yoga-tal/2030-02-04/
CATEGORIES:purple-background
ATTACH;FMTTYPE=image/jpeg:https://mail.bycartonstudio.com/wp-content/uploads/2025/03/485977597_1058006946363940_2181646170934385506_n.jpg
END:VEVENT
BEGIN:VEVENT
DTSTART;TZID=UTC:20300206T200000
DTEND;TZID=UTC:20300206T210000
DTSTAMP:20260423T155301
CREATED:20250329T150627Z
LAST-MODIFIED:20250329T154125Z
UID:10000779-1896638400-1896642000@mail.bycartonstudio.com
SUMMARY:סשן תנועה עם רז רוזנבלו
DESCRIPTION:  \n 
URL:https://mail.bycartonstudio.com/event/dance-sessions/2030-02-06/
CATEGORIES:pink background
ATTACH;FMTTYPE=image/jpeg:https://mail.bycartonstudio.com/wp-content/uploads/2025/03/486403688_1058006943030607_1179724587045265076_n-1.jpg
END:VEVENT
BEGIN:VEVENT
DTSTART;TZID=UTC:20300208T100000
DTEND;TZID=UTC:20300208T140000
DTSTAMP:20260423T155301
CREATED:20250329T190121Z
LAST-MODIFIED:20250330T082550Z
UID:10001306-1896775200-1896789600@mail.bycartonstudio.com
SUMMARY:המוזיאון פתוח לביקורים
DESCRIPTION:[vc_row][vc_column][vc_column_text]ימי שישי מ-10:00 עד 14:00\nביקורים מודרכים במוזיאון הקרטון וסדנאות יצירה עם גלילי קרטון. \n– כניסה אומנותית – 20 ש"ח למשתתף\n– סדנאות עם גלילי קרטון בתוספת של 30 ש"ח\nהביקור כולל סיור בחלל המוזיאון\, מפגש עם האמנית לולה אליאן קצ'קה –\nאמנית פלסטית ומעצבת מוצר\, המציגה את גישתה –\n"Cardboard State Of Mind" ואת הדרך שהובילה אותה לעולם הקרטון. \n  \n[/vc_column_text][/vc_column][/vc_row]
URL:https://mail.bycartonstudio.com/event/open-museum/2030-02-08/
CATEGORIES:blue-background
ATTACH;FMTTYPE=image/jpeg:https://mail.bycartonstudio.com/wp-content/uploads/2021/01/carton-museum-home.jpg
END:VEVENT
BEGIN:VEVENT
DTSTART;TZID=UTC:20300211T083000
DTEND;TZID=UTC:20300211T100000
DTSTAMP:20260423T155301
CREATED:20250329T154746Z
LAST-MODIFIED:20250329T185329Z
UID:10001042-1897029000-1897034400@mail.bycartonstudio.com
SUMMARY:שיעורי יוגה -  בהנחיית טל דייגי
DESCRIPTION:
URL:https://mail.bycartonstudio.com/event/yoga-tal/2030-02-11/
CATEGORIES:purple-background
ATTACH;FMTTYPE=image/jpeg:https://mail.bycartonstudio.com/wp-content/uploads/2025/03/485977597_1058006946363940_2181646170934385506_n.jpg
END:VEVENT
BEGIN:VEVENT
DTSTART;TZID=UTC:20300213T200000
DTEND;TZID=UTC:20300213T210000
DTSTAMP:20260423T155301
CREATED:20250329T150627Z
LAST-MODIFIED:20250329T154125Z
UID:10000780-1897243200-1897246800@mail.bycartonstudio.com
SUMMARY:סשן תנועה עם רז רוזנבלו
DESCRIPTION:  \n 
URL:https://mail.bycartonstudio.com/event/dance-sessions/2030-02-13/
CATEGORIES:pink background
ATTACH;FMTTYPE=image/jpeg:https://mail.bycartonstudio.com/wp-content/uploads/2025/03/486403688_1058006943030607_1179724587045265076_n-1.jpg
END:VEVENT
BEGIN:VEVENT
DTSTART;TZID=UTC:20300215T100000
DTEND;TZID=UTC:20300215T140000
DTSTAMP:20260423T155301
CREATED:20250329T190121Z
LAST-MODIFIED:20250330T082550Z
UID:10001307-1897380000-1897394400@mail.bycartonstudio.com
SUMMARY:המוזיאון פתוח לביקורים
DESCRIPTION:[vc_row][vc_column][vc_column_text]ימי שישי מ-10:00 עד 14:00\nביקורים מודרכים במוזיאון הקרטון וסדנאות יצירה עם גלילי קרטון. \n– כניסה אומנותית – 20 ש"ח למשתתף\n– סדנאות עם גלילי קרטון בתוספת של 30 ש"ח\nהביקור כולל סיור בחלל המוזיאון\, מפגש עם האמנית לולה אליאן קצ'קה –\nאמנית פלסטית ומעצבת מוצר\, המציגה את גישתה –\n"Cardboard State Of Mind" ואת הדרך שהובילה אותה לעולם הקרטון. \n  \n[/vc_column_text][/vc_column][/vc_row]
URL:https://mail.bycartonstudio.com/event/open-museum/2030-02-15/
CATEGORIES:blue-background
ATTACH;FMTTYPE=image/jpeg:https://mail.bycartonstudio.com/wp-content/uploads/2021/01/carton-museum-home.jpg
END:VEVENT
BEGIN:VEVENT
DTSTART;TZID=UTC:20300218T083000
DTEND;TZID=UTC:20300218T100000
DTSTAMP:20260423T155301
CREATED:20250329T154746Z
LAST-MODIFIED:20250329T185329Z
UID:10001043-1897633800-1897639200@mail.bycartonstudio.com
SUMMARY:שיעורי יוגה -  בהנחיית טל דייגי
DESCRIPTION:
URL:https://mail.bycartonstudio.com/event/yoga-tal/2030-02-18/
CATEGORIES:purple-background
ATTACH;FMTTYPE=image/jpeg:https://mail.bycartonstudio.com/wp-content/uploads/2025/03/485977597_1058006946363940_2181646170934385506_n.jpg
END:VEVENT
BEGIN:VEVENT
DTSTART;TZID=UTC:20300220T200000
DTEND;TZID=UTC:20300220T210000
DTSTAMP:20260423T155301
CREATED:20250329T150627Z
LAST-MODIFIED:20250329T154125Z
UID:10000781-1897848000-1897851600@mail.bycartonstudio.com
SUMMARY:סשן תנועה עם רז רוזנבלו
DESCRIPTION:  \n 
URL:https://mail.bycartonstudio.com/event/dance-sessions/2030-02-20/
CATEGORIES:pink background
ATTACH;FMTTYPE=image/jpeg:https://mail.bycartonstudio.com/wp-content/uploads/2025/03/486403688_1058006943030607_1179724587045265076_n-1.jpg
END:VEVENT
BEGIN:VEVENT
DTSTART;TZID=UTC:20300222T100000
DTEND;TZID=UTC:20300222T140000
DTSTAMP:20260423T155301
CREATED:20250329T190121Z
LAST-MODIFIED:20250330T082550Z
UID:10001308-1897984800-1897999200@mail.bycartonstudio.com
SUMMARY:המוזיאון פתוח לביקורים
DESCRIPTION:[vc_row][vc_column][vc_column_text]ימי שישי מ-10:00 עד 14:00\nביקורים מודרכים במוזיאון הקרטון וסדנאות יצירה עם גלילי קרטון. \n– כניסה אומנותית – 20 ש"ח למשתתף\n– סדנאות עם גלילי קרטון בתוספת של 30 ש"ח\nהביקור כולל סיור בחלל המוזיאון\, מפגש עם האמנית לולה אליאן קצ'קה –\nאמנית פלסטית ומעצבת מוצר\, המציגה את גישתה –\n"Cardboard State Of Mind" ואת הדרך שהובילה אותה לעולם הקרטון. \n  \n[/vc_column_text][/vc_column][/vc_row]
URL:https://mail.bycartonstudio.com/event/open-museum/2030-02-22/
CATEGORIES:blue-background
ATTACH;FMTTYPE=image/jpeg:https://mail.bycartonstudio.com/wp-content/uploads/2021/01/carton-museum-home.jpg
END:VEVENT
BEGIN:VEVENT
DTSTART;TZID=UTC:20300225T083000
DTEND;TZID=UTC:20300225T100000
DTSTAMP:20260423T155301
CREATED:20250329T154746Z
LAST-MODIFIED:20250329T185329Z
UID:10001044-1898238600-1898244000@mail.bycartonstudio.com
SUMMARY:שיעורי יוגה -  בהנחיית טל דייגי
DESCRIPTION:
URL:https://mail.bycartonstudio.com/event/yoga-tal/2030-02-25/
CATEGORIES:purple-background
ATTACH;FMTTYPE=image/jpeg:https://mail.bycartonstudio.com/wp-content/uploads/2025/03/485977597_1058006946363940_2181646170934385506_n.jpg
END:VEVENT
BEGIN:VEVENT
DTSTART;TZID=UTC:20300227T200000
DTEND;TZID=UTC:20300227T210000
DTSTAMP:20260423T155301
CREATED:20250329T150627Z
LAST-MODIFIED:20250329T154125Z
UID:10000782-1898452800-1898456400@mail.bycartonstudio.com
SUMMARY:סשן תנועה עם רז רוזנבלו
DESCRIPTION:  \n 
URL:https://mail.bycartonstudio.com/event/dance-sessions/2030-02-27/
CATEGORIES:pink background
ATTACH;FMTTYPE=image/jpeg:https://mail.bycartonstudio.com/wp-content/uploads/2025/03/486403688_1058006943030607_1179724587045265076_n-1.jpg
END:VEVENT
END:VCALENDAR