BEGIN:VCALENDAR
VERSION:2.0
PRODID:-//Carton Studio - ECPv6.10.3//NONSGML v1.0//EN
CALSCALE:GREGORIAN
METHOD:PUBLISH
X-ORIGINAL-URL:https://mail.bycartonstudio.com
X-WR-CALDESC:Events for Carton Studio
REFRESH-INTERVAL;VALUE=DURATION:PT1H
X-Robots-Tag:noindex
X-PUBLISHED-TTL:PT1H
BEGIN:VTIMEZONE
TZID:UTC
BEGIN:STANDARD
TZOFFSETFROM:+0000
TZOFFSETTO:+0000
TZNAME:UTC
DTSTART:20280101T000000
END:STANDARD
END:VTIMEZONE
BEGIN:VEVENT
DTSTART;TZID=UTC:20280901T100000
DTEND;TZID=UTC:20280901T140000
DTSTAMP:20260422T135641
CREATED:20250329T190121Z
LAST-MODIFIED:20250330T082550Z
UID:10001231-1851415200-1851429600@mail.bycartonstudio.com
SUMMARY:המוזיאון פתוח לביקורים
DESCRIPTION:[vc_row][vc_column][vc_column_text]ימי שישי מ-10:00 עד 14:00\nביקורים מודרכים במוזיאון הקרטון וסדנאות יצירה עם גלילי קרטון. \n– כניסה אומנותית – 20 ש"ח למשתתף\n– סדנאות עם גלילי קרטון בתוספת של 30 ש"ח\nהביקור כולל סיור בחלל המוזיאון\, מפגש עם האמנית לולה אליאן קצ'קה –\nאמנית פלסטית ומעצבת מוצר\, המציגה את גישתה –\n"Cardboard State Of Mind" ואת הדרך שהובילה אותה לעולם הקרטון. \n  \n[/vc_column_text][/vc_column][/vc_row]
URL:https://mail.bycartonstudio.com/event/open-museum/2028-09-01/
CATEGORIES:blue-background
ATTACH;FMTTYPE=image/jpeg:https://mail.bycartonstudio.com/wp-content/uploads/2021/01/carton-museum-home.jpg
END:VEVENT
BEGIN:VEVENT
DTSTART;TZID=UTC:20280904T083000
DTEND;TZID=UTC:20280904T100000
DTSTAMP:20260422T135641
CREATED:20250329T154746Z
LAST-MODIFIED:20250329T185329Z
UID:10000967-1851669000-1851674400@mail.bycartonstudio.com
SUMMARY:שיעורי יוגה -  בהנחיית טל דייגי
DESCRIPTION:
URL:https://mail.bycartonstudio.com/event/yoga-tal/2028-09-04/
CATEGORIES:purple-background
ATTACH;FMTTYPE=image/jpeg:https://mail.bycartonstudio.com/wp-content/uploads/2025/03/485977597_1058006946363940_2181646170934385506_n.jpg
END:VEVENT
BEGIN:VEVENT
DTSTART;TZID=UTC:20280906T200000
DTEND;TZID=UTC:20280906T210000
DTSTAMP:20260422T135641
CREATED:20250329T150627Z
LAST-MODIFIED:20250329T154125Z
UID:10000705-1851883200-1851886800@mail.bycartonstudio.com
SUMMARY:סשן תנועה עם רז רוזנבלו
DESCRIPTION:  \n 
URL:https://mail.bycartonstudio.com/event/dance-sessions/2028-09-06/
CATEGORIES:pink background
ATTACH;FMTTYPE=image/jpeg:https://mail.bycartonstudio.com/wp-content/uploads/2025/03/486403688_1058006943030607_1179724587045265076_n-1.jpg
END:VEVENT
BEGIN:VEVENT
DTSTART;TZID=UTC:20280908T100000
DTEND;TZID=UTC:20280908T140000
DTSTAMP:20260422T135641
CREATED:20250329T190121Z
LAST-MODIFIED:20250330T082550Z
UID:10001232-1852020000-1852034400@mail.bycartonstudio.com
SUMMARY:המוזיאון פתוח לביקורים
DESCRIPTION:[vc_row][vc_column][vc_column_text]ימי שישי מ-10:00 עד 14:00\nביקורים מודרכים במוזיאון הקרטון וסדנאות יצירה עם גלילי קרטון. \n– כניסה אומנותית – 20 ש"ח למשתתף\n– סדנאות עם גלילי קרטון בתוספת של 30 ש"ח\nהביקור כולל סיור בחלל המוזיאון\, מפגש עם האמנית לולה אליאן קצ'קה –\nאמנית פלסטית ומעצבת מוצר\, המציגה את גישתה –\n"Cardboard State Of Mind" ואת הדרך שהובילה אותה לעולם הקרטון. \n  \n[/vc_column_text][/vc_column][/vc_row]
URL:https://mail.bycartonstudio.com/event/open-museum/2028-09-08/
CATEGORIES:blue-background
ATTACH;FMTTYPE=image/jpeg:https://mail.bycartonstudio.com/wp-content/uploads/2021/01/carton-museum-home.jpg
END:VEVENT
BEGIN:VEVENT
DTSTART;TZID=UTC:20280911T083000
DTEND;TZID=UTC:20280911T100000
DTSTAMP:20260422T135641
CREATED:20250329T154746Z
LAST-MODIFIED:20250329T185329Z
UID:10000968-1852273800-1852279200@mail.bycartonstudio.com
SUMMARY:שיעורי יוגה -  בהנחיית טל דייגי
DESCRIPTION:
URL:https://mail.bycartonstudio.com/event/yoga-tal/2028-09-11/
CATEGORIES:purple-background
ATTACH;FMTTYPE=image/jpeg:https://mail.bycartonstudio.com/wp-content/uploads/2025/03/485977597_1058006946363940_2181646170934385506_n.jpg
END:VEVENT
BEGIN:VEVENT
DTSTART;TZID=UTC:20280913T200000
DTEND;TZID=UTC:20280913T210000
DTSTAMP:20260422T135641
CREATED:20250329T150627Z
LAST-MODIFIED:20250329T154125Z
UID:10000706-1852488000-1852491600@mail.bycartonstudio.com
SUMMARY:סשן תנועה עם רז רוזנבלו
DESCRIPTION:  \n 
URL:https://mail.bycartonstudio.com/event/dance-sessions/2028-09-13/
CATEGORIES:pink background
ATTACH;FMTTYPE=image/jpeg:https://mail.bycartonstudio.com/wp-content/uploads/2025/03/486403688_1058006943030607_1179724587045265076_n-1.jpg
END:VEVENT
BEGIN:VEVENT
DTSTART;TZID=UTC:20280915T100000
DTEND;TZID=UTC:20280915T140000
DTSTAMP:20260422T135641
CREATED:20250329T190121Z
LAST-MODIFIED:20250330T082550Z
UID:10001233-1852624800-1852639200@mail.bycartonstudio.com
SUMMARY:המוזיאון פתוח לביקורים
DESCRIPTION:[vc_row][vc_column][vc_column_text]ימי שישי מ-10:00 עד 14:00\nביקורים מודרכים במוזיאון הקרטון וסדנאות יצירה עם גלילי קרטון. \n– כניסה אומנותית – 20 ש"ח למשתתף\n– סדנאות עם גלילי קרטון בתוספת של 30 ש"ח\nהביקור כולל סיור בחלל המוזיאון\, מפגש עם האמנית לולה אליאן קצ'קה –\nאמנית פלסטית ומעצבת מוצר\, המציגה את גישתה –\n"Cardboard State Of Mind" ואת הדרך שהובילה אותה לעולם הקרטון. \n  \n[/vc_column_text][/vc_column][/vc_row]
URL:https://mail.bycartonstudio.com/event/open-museum/2028-09-15/
CATEGORIES:blue-background
ATTACH;FMTTYPE=image/jpeg:https://mail.bycartonstudio.com/wp-content/uploads/2021/01/carton-museum-home.jpg
END:VEVENT
BEGIN:VEVENT
DTSTART;TZID=UTC:20280918T083000
DTEND;TZID=UTC:20280918T100000
DTSTAMP:20260422T135641
CREATED:20250329T154746Z
LAST-MODIFIED:20250329T185329Z
UID:10000969-1852878600-1852884000@mail.bycartonstudio.com
SUMMARY:שיעורי יוגה -  בהנחיית טל דייגי
DESCRIPTION:
URL:https://mail.bycartonstudio.com/event/yoga-tal/2028-09-18/
CATEGORIES:purple-background
ATTACH;FMTTYPE=image/jpeg:https://mail.bycartonstudio.com/wp-content/uploads/2025/03/485977597_1058006946363940_2181646170934385506_n.jpg
END:VEVENT
BEGIN:VEVENT
DTSTART;TZID=UTC:20280920T200000
DTEND;TZID=UTC:20280920T210000
DTSTAMP:20260422T135641
CREATED:20250329T150627Z
LAST-MODIFIED:20250329T154125Z
UID:10000707-1853092800-1853096400@mail.bycartonstudio.com
SUMMARY:סשן תנועה עם רז רוזנבלו
DESCRIPTION:  \n 
URL:https://mail.bycartonstudio.com/event/dance-sessions/2028-09-20/
CATEGORIES:pink background
ATTACH;FMTTYPE=image/jpeg:https://mail.bycartonstudio.com/wp-content/uploads/2025/03/486403688_1058006943030607_1179724587045265076_n-1.jpg
END:VEVENT
BEGIN:VEVENT
DTSTART;TZID=UTC:20280922T100000
DTEND;TZID=UTC:20280922T140000
DTSTAMP:20260422T135641
CREATED:20250329T190121Z
LAST-MODIFIED:20250330T082550Z
UID:10001234-1853229600-1853244000@mail.bycartonstudio.com
SUMMARY:המוזיאון פתוח לביקורים
DESCRIPTION:[vc_row][vc_column][vc_column_text]ימי שישי מ-10:00 עד 14:00\nביקורים מודרכים במוזיאון הקרטון וסדנאות יצירה עם גלילי קרטון. \n– כניסה אומנותית – 20 ש"ח למשתתף\n– סדנאות עם גלילי קרטון בתוספת של 30 ש"ח\nהביקור כולל סיור בחלל המוזיאון\, מפגש עם האמנית לולה אליאן קצ'קה –\nאמנית פלסטית ומעצבת מוצר\, המציגה את גישתה –\n"Cardboard State Of Mind" ואת הדרך שהובילה אותה לעולם הקרטון. \n  \n[/vc_column_text][/vc_column][/vc_row]
URL:https://mail.bycartonstudio.com/event/open-museum/2028-09-22/
CATEGORIES:blue-background
ATTACH;FMTTYPE=image/jpeg:https://mail.bycartonstudio.com/wp-content/uploads/2021/01/carton-museum-home.jpg
END:VEVENT
BEGIN:VEVENT
DTSTART;TZID=UTC:20280925T083000
DTEND;TZID=UTC:20280925T100000
DTSTAMP:20260422T135641
CREATED:20250329T154746Z
LAST-MODIFIED:20250329T185329Z
UID:10000970-1853483400-1853488800@mail.bycartonstudio.com
SUMMARY:שיעורי יוגה -  בהנחיית טל דייגי
DESCRIPTION:
URL:https://mail.bycartonstudio.com/event/yoga-tal/2028-09-25/
CATEGORIES:purple-background
ATTACH;FMTTYPE=image/jpeg:https://mail.bycartonstudio.com/wp-content/uploads/2025/03/485977597_1058006946363940_2181646170934385506_n.jpg
END:VEVENT
BEGIN:VEVENT
DTSTART;TZID=UTC:20280927T200000
DTEND;TZID=UTC:20280927T210000
DTSTAMP:20260422T135641
CREATED:20250329T150627Z
LAST-MODIFIED:20250329T154125Z
UID:10000708-1853697600-1853701200@mail.bycartonstudio.com
SUMMARY:סשן תנועה עם רז רוזנבלו
DESCRIPTION:  \n 
URL:https://mail.bycartonstudio.com/event/dance-sessions/2028-09-27/
CATEGORIES:pink background
ATTACH;FMTTYPE=image/jpeg:https://mail.bycartonstudio.com/wp-content/uploads/2025/03/486403688_1058006943030607_1179724587045265076_n-1.jpg
END:VEVENT
BEGIN:VEVENT
DTSTART;TZID=UTC:20280929T100000
DTEND;TZID=UTC:20280929T140000
DTSTAMP:20260422T135641
CREATED:20250329T190121Z
LAST-MODIFIED:20250330T082550Z
UID:10001235-1853834400-1853848800@mail.bycartonstudio.com
SUMMARY:המוזיאון פתוח לביקורים
DESCRIPTION:[vc_row][vc_column][vc_column_text]ימי שישי מ-10:00 עד 14:00\nביקורים מודרכים במוזיאון הקרטון וסדנאות יצירה עם גלילי קרטון. \n– כניסה אומנותית – 20 ש"ח למשתתף\n– סדנאות עם גלילי קרטון בתוספת של 30 ש"ח\nהביקור כולל סיור בחלל המוזיאון\, מפגש עם האמנית לולה אליאן קצ'קה –\nאמנית פלסטית ומעצבת מוצר\, המציגה את גישתה –\n"Cardboard State Of Mind" ואת הדרך שהובילה אותה לעולם הקרטון. \n  \n[/vc_column_text][/vc_column][/vc_row]
URL:https://mail.bycartonstudio.com/event/open-museum/2028-09-29/
CATEGORIES:blue-background
ATTACH;FMTTYPE=image/jpeg:https://mail.bycartonstudio.com/wp-content/uploads/2021/01/carton-museum-home.jpg
END:VEVENT
END:VCALENDAR