BEGIN:VCALENDAR
VERSION:2.0
PRODID:-//Carton Studio - ECPv6.10.3//NONSGML v1.0//EN
CALSCALE:GREGORIAN
METHOD:PUBLISH
X-WR-CALNAME:Carton Studio
X-ORIGINAL-URL:https://mail.bycartonstudio.com
X-WR-CALDESC:Events for Carton Studio
REFRESH-INTERVAL;VALUE=DURATION:PT1H
X-Robots-Tag:noindex
X-PUBLISHED-TTL:PT1H
BEGIN:VTIMEZONE
TZID:UTC
BEGIN:STANDARD
TZOFFSETFROM:+0000
TZOFFSETTO:+0000
TZNAME:UTC
DTSTART:20280101T000000
END:STANDARD
END:VTIMEZONE
BEGIN:VEVENT
DTSTART;TZID=UTC:20280202T200000
DTEND;TZID=UTC:20280202T210000
DTSTAMP:20260422T031532
CREATED:20250329T150627Z
LAST-MODIFIED:20250329T154125Z
UID:10000674-1833134400-1833138000@mail.bycartonstudio.com
SUMMARY:סשן תנועה עם רז רוזנבלו
DESCRIPTION:  \n 
URL:https://mail.bycartonstudio.com/event/dance-sessions/2028-02-02/
CATEGORIES:pink background
ATTACH;FMTTYPE=image/jpeg:https://mail.bycartonstudio.com/wp-content/uploads/2025/03/486403688_1058006943030607_1179724587045265076_n-1.jpg
END:VEVENT
BEGIN:VEVENT
DTSTART;TZID=UTC:20280204T100000
DTEND;TZID=UTC:20280204T140000
DTSTAMP:20260422T031532
CREATED:20250329T190121Z
LAST-MODIFIED:20250330T082550Z
UID:10001201-1833271200-1833285600@mail.bycartonstudio.com
SUMMARY:המוזיאון פתוח לביקורים
DESCRIPTION:[vc_row][vc_column][vc_column_text]ימי שישי מ-10:00 עד 14:00\nביקורים מודרכים במוזיאון הקרטון וסדנאות יצירה עם גלילי קרטון. \n– כניסה אומנותית – 20 ש"ח למשתתף\n– סדנאות עם גלילי קרטון בתוספת של 30 ש"ח\nהביקור כולל סיור בחלל המוזיאון\, מפגש עם האמנית לולה אליאן קצ'קה –\nאמנית פלסטית ומעצבת מוצר\, המציגה את גישתה –\n"Cardboard State Of Mind" ואת הדרך שהובילה אותה לעולם הקרטון. \n  \n[/vc_column_text][/vc_column][/vc_row]
URL:https://mail.bycartonstudio.com/event/open-museum/2028-02-04/
CATEGORIES:blue-background
ATTACH;FMTTYPE=image/jpeg:https://mail.bycartonstudio.com/wp-content/uploads/2021/01/carton-museum-home.jpg
END:VEVENT
BEGIN:VEVENT
DTSTART;TZID=UTC:20280207T083000
DTEND;TZID=UTC:20280207T100000
DTSTAMP:20260422T031532
CREATED:20250329T154746Z
LAST-MODIFIED:20250329T185329Z
UID:10000937-1833525000-1833530400@mail.bycartonstudio.com
SUMMARY:שיעורי יוגה -  בהנחיית טל דייגי
DESCRIPTION:
URL:https://mail.bycartonstudio.com/event/yoga-tal/2028-02-07/
CATEGORIES:purple-background
ATTACH;FMTTYPE=image/jpeg:https://mail.bycartonstudio.com/wp-content/uploads/2025/03/485977597_1058006946363940_2181646170934385506_n.jpg
END:VEVENT
BEGIN:VEVENT
DTSTART;TZID=UTC:20280209T200000
DTEND;TZID=UTC:20280209T210000
DTSTAMP:20260422T031532
CREATED:20250329T150627Z
LAST-MODIFIED:20250329T154125Z
UID:10000675-1833739200-1833742800@mail.bycartonstudio.com
SUMMARY:סשן תנועה עם רז רוזנבלו
DESCRIPTION:  \n 
URL:https://mail.bycartonstudio.com/event/dance-sessions/2028-02-09/
CATEGORIES:pink background
ATTACH;FMTTYPE=image/jpeg:https://mail.bycartonstudio.com/wp-content/uploads/2025/03/486403688_1058006943030607_1179724587045265076_n-1.jpg
END:VEVENT
BEGIN:VEVENT
DTSTART;TZID=UTC:20280211T100000
DTEND;TZID=UTC:20280211T140000
DTSTAMP:20260422T031532
CREATED:20250329T190121Z
LAST-MODIFIED:20250330T082550Z
UID:10001202-1833876000-1833890400@mail.bycartonstudio.com
SUMMARY:המוזיאון פתוח לביקורים
DESCRIPTION:[vc_row][vc_column][vc_column_text]ימי שישי מ-10:00 עד 14:00\nביקורים מודרכים במוזיאון הקרטון וסדנאות יצירה עם גלילי קרטון. \n– כניסה אומנותית – 20 ש"ח למשתתף\n– סדנאות עם גלילי קרטון בתוספת של 30 ש"ח\nהביקור כולל סיור בחלל המוזיאון\, מפגש עם האמנית לולה אליאן קצ'קה –\nאמנית פלסטית ומעצבת מוצר\, המציגה את גישתה –\n"Cardboard State Of Mind" ואת הדרך שהובילה אותה לעולם הקרטון. \n  \n[/vc_column_text][/vc_column][/vc_row]
URL:https://mail.bycartonstudio.com/event/open-museum/2028-02-11/
CATEGORIES:blue-background
ATTACH;FMTTYPE=image/jpeg:https://mail.bycartonstudio.com/wp-content/uploads/2021/01/carton-museum-home.jpg
END:VEVENT
BEGIN:VEVENT
DTSTART;TZID=UTC:20280214T083000
DTEND;TZID=UTC:20280214T100000
DTSTAMP:20260422T031532
CREATED:20250329T154746Z
LAST-MODIFIED:20250329T185329Z
UID:10000938-1834129800-1834135200@mail.bycartonstudio.com
SUMMARY:שיעורי יוגה -  בהנחיית טל דייגי
DESCRIPTION:
URL:https://mail.bycartonstudio.com/event/yoga-tal/2028-02-14/
CATEGORIES:purple-background
ATTACH;FMTTYPE=image/jpeg:https://mail.bycartonstudio.com/wp-content/uploads/2025/03/485977597_1058006946363940_2181646170934385506_n.jpg
END:VEVENT
BEGIN:VEVENT
DTSTART;TZID=UTC:20280216T200000
DTEND;TZID=UTC:20280216T210000
DTSTAMP:20260422T031532
CREATED:20250329T150627Z
LAST-MODIFIED:20250329T154125Z
UID:10000676-1834344000-1834347600@mail.bycartonstudio.com
SUMMARY:סשן תנועה עם רז רוזנבלו
DESCRIPTION:  \n 
URL:https://mail.bycartonstudio.com/event/dance-sessions/2028-02-16/
CATEGORIES:pink background
ATTACH;FMTTYPE=image/jpeg:https://mail.bycartonstudio.com/wp-content/uploads/2025/03/486403688_1058006943030607_1179724587045265076_n-1.jpg
END:VEVENT
BEGIN:VEVENT
DTSTART;TZID=UTC:20280218T100000
DTEND;TZID=UTC:20280218T140000
DTSTAMP:20260422T031532
CREATED:20250329T190121Z
LAST-MODIFIED:20250330T082550Z
UID:10001203-1834480800-1834495200@mail.bycartonstudio.com
SUMMARY:המוזיאון פתוח לביקורים
DESCRIPTION:[vc_row][vc_column][vc_column_text]ימי שישי מ-10:00 עד 14:00\nביקורים מודרכים במוזיאון הקרטון וסדנאות יצירה עם גלילי קרטון. \n– כניסה אומנותית – 20 ש"ח למשתתף\n– סדנאות עם גלילי קרטון בתוספת של 30 ש"ח\nהביקור כולל סיור בחלל המוזיאון\, מפגש עם האמנית לולה אליאן קצ'קה –\nאמנית פלסטית ומעצבת מוצר\, המציגה את גישתה –\n"Cardboard State Of Mind" ואת הדרך שהובילה אותה לעולם הקרטון. \n  \n[/vc_column_text][/vc_column][/vc_row]
URL:https://mail.bycartonstudio.com/event/open-museum/2028-02-18/
CATEGORIES:blue-background
ATTACH;FMTTYPE=image/jpeg:https://mail.bycartonstudio.com/wp-content/uploads/2021/01/carton-museum-home.jpg
END:VEVENT
BEGIN:VEVENT
DTSTART;TZID=UTC:20280221T083000
DTEND;TZID=UTC:20280221T100000
DTSTAMP:20260422T031532
CREATED:20250329T154746Z
LAST-MODIFIED:20250329T185329Z
UID:10000939-1834734600-1834740000@mail.bycartonstudio.com
SUMMARY:שיעורי יוגה -  בהנחיית טל דייגי
DESCRIPTION:
URL:https://mail.bycartonstudio.com/event/yoga-tal/2028-02-21/
CATEGORIES:purple-background
ATTACH;FMTTYPE=image/jpeg:https://mail.bycartonstudio.com/wp-content/uploads/2025/03/485977597_1058006946363940_2181646170934385506_n.jpg
END:VEVENT
BEGIN:VEVENT
DTSTART;TZID=UTC:20280223T200000
DTEND;TZID=UTC:20280223T210000
DTSTAMP:20260422T031532
CREATED:20250329T150627Z
LAST-MODIFIED:20250329T154125Z
UID:10000677-1834948800-1834952400@mail.bycartonstudio.com
SUMMARY:סשן תנועה עם רז רוזנבלו
DESCRIPTION:  \n 
URL:https://mail.bycartonstudio.com/event/dance-sessions/2028-02-23/
CATEGORIES:pink background
ATTACH;FMTTYPE=image/jpeg:https://mail.bycartonstudio.com/wp-content/uploads/2025/03/486403688_1058006943030607_1179724587045265076_n-1.jpg
END:VEVENT
BEGIN:VEVENT
DTSTART;TZID=UTC:20280225T100000
DTEND;TZID=UTC:20280225T140000
DTSTAMP:20260422T031532
CREATED:20250329T190121Z
LAST-MODIFIED:20250330T082550Z
UID:10001204-1835085600-1835100000@mail.bycartonstudio.com
SUMMARY:המוזיאון פתוח לביקורים
DESCRIPTION:[vc_row][vc_column][vc_column_text]ימי שישי מ-10:00 עד 14:00\nביקורים מודרכים במוזיאון הקרטון וסדנאות יצירה עם גלילי קרטון. \n– כניסה אומנותית – 20 ש"ח למשתתף\n– סדנאות עם גלילי קרטון בתוספת של 30 ש"ח\nהביקור כולל סיור בחלל המוזיאון\, מפגש עם האמנית לולה אליאן קצ'קה –\nאמנית פלסטית ומעצבת מוצר\, המציגה את גישתה –\n"Cardboard State Of Mind" ואת הדרך שהובילה אותה לעולם הקרטון. \n  \n[/vc_column_text][/vc_column][/vc_row]
URL:https://mail.bycartonstudio.com/event/open-museum/2028-02-25/
CATEGORIES:blue-background
ATTACH;FMTTYPE=image/jpeg:https://mail.bycartonstudio.com/wp-content/uploads/2021/01/carton-museum-home.jpg
END:VEVENT
BEGIN:VEVENT
DTSTART;TZID=UTC:20280228T083000
DTEND;TZID=UTC:20280228T100000
DTSTAMP:20260422T031532
CREATED:20250329T154746Z
LAST-MODIFIED:20250329T185329Z
UID:10000940-1835339400-1835344800@mail.bycartonstudio.com
SUMMARY:שיעורי יוגה -  בהנחיית טל דייגי
DESCRIPTION:
URL:https://mail.bycartonstudio.com/event/yoga-tal/2028-02-28/
CATEGORIES:purple-background
ATTACH;FMTTYPE=image/jpeg:https://mail.bycartonstudio.com/wp-content/uploads/2025/03/485977597_1058006946363940_2181646170934385506_n.jpg
END:VEVENT
END:VCALENDAR