BEGIN:VCALENDAR
VERSION:2.0
PRODID:-//Carton Studio - ECPv6.10.3//NONSGML v1.0//EN
CALSCALE:GREGORIAN
METHOD:PUBLISH
X-WR-CALNAME:Carton Studio
X-ORIGINAL-URL:https://mail.bycartonstudio.com
X-WR-CALDESC:Events for Carton Studio
REFRESH-INTERVAL;VALUE=DURATION:PT1H
X-Robots-Tag:noindex
X-PUBLISHED-TTL:PT1H
BEGIN:VTIMEZONE
TZID:UTC
BEGIN:STANDARD
TZOFFSETFROM:+0000
TZOFFSETTO:+0000
TZNAME:UTC
DTSTART:20270101T000000
END:STANDARD
END:VTIMEZONE
BEGIN:VEVENT
DTSTART;TZID=UTC:20270503T083000
DTEND;TZID=UTC:20270503T100000
DTSTAMP:20260421T141142
CREATED:20250329T154746Z
LAST-MODIFIED:20250329T185329Z
UID:10000897-1809333000-1809338400@mail.bycartonstudio.com
SUMMARY:שיעורי יוגה -  בהנחיית טל דייגי
DESCRIPTION:
URL:https://mail.bycartonstudio.com/event/yoga-tal/2027-05-03/
CATEGORIES:purple-background
ATTACH;FMTTYPE=image/jpeg:https://mail.bycartonstudio.com/wp-content/uploads/2025/03/485977597_1058006946363940_2181646170934385506_n.jpg
END:VEVENT
BEGIN:VEVENT
DTSTART;TZID=UTC:20270505T200000
DTEND;TZID=UTC:20270505T210000
DTSTAMP:20260421T141142
CREATED:20250329T150627Z
LAST-MODIFIED:20250329T154125Z
UID:10000635-1809547200-1809550800@mail.bycartonstudio.com
SUMMARY:סשן תנועה עם רז רוזנבלו
DESCRIPTION:  \n 
URL:https://mail.bycartonstudio.com/event/dance-sessions/2027-05-05/
CATEGORIES:pink background
ATTACH;FMTTYPE=image/jpeg:https://mail.bycartonstudio.com/wp-content/uploads/2025/03/486403688_1058006943030607_1179724587045265076_n-1.jpg
END:VEVENT
BEGIN:VEVENT
DTSTART;TZID=UTC:20270507T100000
DTEND;TZID=UTC:20270507T140000
DTSTAMP:20260421T141142
CREATED:20250329T190121Z
LAST-MODIFIED:20250330T082550Z
UID:10001162-1809684000-1809698400@mail.bycartonstudio.com
SUMMARY:המוזיאון פתוח לביקורים
DESCRIPTION:[vc_row][vc_column][vc_column_text]ימי שישי מ-10:00 עד 14:00\nביקורים מודרכים במוזיאון הקרטון וסדנאות יצירה עם גלילי קרטון. \n– כניסה אומנותית – 20 ש"ח למשתתף\n– סדנאות עם גלילי קרטון בתוספת של 30 ש"ח\nהביקור כולל סיור בחלל המוזיאון\, מפגש עם האמנית לולה אליאן קצ'קה –\nאמנית פלסטית ומעצבת מוצר\, המציגה את גישתה –\n"Cardboard State Of Mind" ואת הדרך שהובילה אותה לעולם הקרטון. \n  \n[/vc_column_text][/vc_column][/vc_row]
URL:https://mail.bycartonstudio.com/event/open-museum/2027-05-07/
CATEGORIES:blue-background
ATTACH;FMTTYPE=image/jpeg:https://mail.bycartonstudio.com/wp-content/uploads/2021/01/carton-museum-home.jpg
END:VEVENT
BEGIN:VEVENT
DTSTART;TZID=UTC:20270510T083000
DTEND;TZID=UTC:20270510T100000
DTSTAMP:20260421T141142
CREATED:20250329T154746Z
LAST-MODIFIED:20250329T185329Z
UID:10000898-1809937800-1809943200@mail.bycartonstudio.com
SUMMARY:שיעורי יוגה -  בהנחיית טל דייגי
DESCRIPTION:
URL:https://mail.bycartonstudio.com/event/yoga-tal/2027-05-10/
CATEGORIES:purple-background
ATTACH;FMTTYPE=image/jpeg:https://mail.bycartonstudio.com/wp-content/uploads/2025/03/485977597_1058006946363940_2181646170934385506_n.jpg
END:VEVENT
BEGIN:VEVENT
DTSTART;TZID=UTC:20270512T200000
DTEND;TZID=UTC:20270512T210000
DTSTAMP:20260421T141142
CREATED:20250329T150627Z
LAST-MODIFIED:20250329T154125Z
UID:10000636-1810152000-1810155600@mail.bycartonstudio.com
SUMMARY:סשן תנועה עם רז רוזנבלו
DESCRIPTION:  \n 
URL:https://mail.bycartonstudio.com/event/dance-sessions/2027-05-12/
CATEGORIES:pink background
ATTACH;FMTTYPE=image/jpeg:https://mail.bycartonstudio.com/wp-content/uploads/2025/03/486403688_1058006943030607_1179724587045265076_n-1.jpg
END:VEVENT
BEGIN:VEVENT
DTSTART;TZID=UTC:20270514T100000
DTEND;TZID=UTC:20270514T140000
DTSTAMP:20260421T141142
CREATED:20250329T190121Z
LAST-MODIFIED:20250330T082550Z
UID:10001163-1810288800-1810303200@mail.bycartonstudio.com
SUMMARY:המוזיאון פתוח לביקורים
DESCRIPTION:[vc_row][vc_column][vc_column_text]ימי שישי מ-10:00 עד 14:00\nביקורים מודרכים במוזיאון הקרטון וסדנאות יצירה עם גלילי קרטון. \n– כניסה אומנותית – 20 ש"ח למשתתף\n– סדנאות עם גלילי קרטון בתוספת של 30 ש"ח\nהביקור כולל סיור בחלל המוזיאון\, מפגש עם האמנית לולה אליאן קצ'קה –\nאמנית פלסטית ומעצבת מוצר\, המציגה את גישתה –\n"Cardboard State Of Mind" ואת הדרך שהובילה אותה לעולם הקרטון. \n  \n[/vc_column_text][/vc_column][/vc_row]
URL:https://mail.bycartonstudio.com/event/open-museum/2027-05-14/
CATEGORIES:blue-background
ATTACH;FMTTYPE=image/jpeg:https://mail.bycartonstudio.com/wp-content/uploads/2021/01/carton-museum-home.jpg
END:VEVENT
BEGIN:VEVENT
DTSTART;TZID=UTC:20270517T083000
DTEND;TZID=UTC:20270517T100000
DTSTAMP:20260421T141142
CREATED:20250329T154746Z
LAST-MODIFIED:20250329T185329Z
UID:10000899-1810542600-1810548000@mail.bycartonstudio.com
SUMMARY:שיעורי יוגה -  בהנחיית טל דייגי
DESCRIPTION:
URL:https://mail.bycartonstudio.com/event/yoga-tal/2027-05-17/
CATEGORIES:purple-background
ATTACH;FMTTYPE=image/jpeg:https://mail.bycartonstudio.com/wp-content/uploads/2025/03/485977597_1058006946363940_2181646170934385506_n.jpg
END:VEVENT
BEGIN:VEVENT
DTSTART;TZID=UTC:20270519T200000
DTEND;TZID=UTC:20270519T210000
DTSTAMP:20260421T141142
CREATED:20250329T150627Z
LAST-MODIFIED:20250329T154125Z
UID:10000637-1810756800-1810760400@mail.bycartonstudio.com
SUMMARY:סשן תנועה עם רז רוזנבלו
DESCRIPTION:  \n 
URL:https://mail.bycartonstudio.com/event/dance-sessions/2027-05-19/
CATEGORIES:pink background
ATTACH;FMTTYPE=image/jpeg:https://mail.bycartonstudio.com/wp-content/uploads/2025/03/486403688_1058006943030607_1179724587045265076_n-1.jpg
END:VEVENT
BEGIN:VEVENT
DTSTART;TZID=UTC:20270521T100000
DTEND;TZID=UTC:20270521T140000
DTSTAMP:20260421T141142
CREATED:20250329T190121Z
LAST-MODIFIED:20250330T082550Z
UID:10001164-1810893600-1810908000@mail.bycartonstudio.com
SUMMARY:המוזיאון פתוח לביקורים
DESCRIPTION:[vc_row][vc_column][vc_column_text]ימי שישי מ-10:00 עד 14:00\nביקורים מודרכים במוזיאון הקרטון וסדנאות יצירה עם גלילי קרטון. \n– כניסה אומנותית – 20 ש"ח למשתתף\n– סדנאות עם גלילי קרטון בתוספת של 30 ש"ח\nהביקור כולל סיור בחלל המוזיאון\, מפגש עם האמנית לולה אליאן קצ'קה –\nאמנית פלסטית ומעצבת מוצר\, המציגה את גישתה –\n"Cardboard State Of Mind" ואת הדרך שהובילה אותה לעולם הקרטון. \n  \n[/vc_column_text][/vc_column][/vc_row]
URL:https://mail.bycartonstudio.com/event/open-museum/2027-05-21/
CATEGORIES:blue-background
ATTACH;FMTTYPE=image/jpeg:https://mail.bycartonstudio.com/wp-content/uploads/2021/01/carton-museum-home.jpg
END:VEVENT
BEGIN:VEVENT
DTSTART;TZID=UTC:20270524T083000
DTEND;TZID=UTC:20270524T100000
DTSTAMP:20260421T141142
CREATED:20250329T154746Z
LAST-MODIFIED:20250329T185329Z
UID:10000900-1811147400-1811152800@mail.bycartonstudio.com
SUMMARY:שיעורי יוגה -  בהנחיית טל דייגי
DESCRIPTION:
URL:https://mail.bycartonstudio.com/event/yoga-tal/2027-05-24/
CATEGORIES:purple-background
ATTACH;FMTTYPE=image/jpeg:https://mail.bycartonstudio.com/wp-content/uploads/2025/03/485977597_1058006946363940_2181646170934385506_n.jpg
END:VEVENT
BEGIN:VEVENT
DTSTART;TZID=UTC:20270526T200000
DTEND;TZID=UTC:20270526T210000
DTSTAMP:20260421T141142
CREATED:20250329T150627Z
LAST-MODIFIED:20250329T154125Z
UID:10000638-1811361600-1811365200@mail.bycartonstudio.com
SUMMARY:סשן תנועה עם רז רוזנבלו
DESCRIPTION:  \n 
URL:https://mail.bycartonstudio.com/event/dance-sessions/2027-05-26/
CATEGORIES:pink background
ATTACH;FMTTYPE=image/jpeg:https://mail.bycartonstudio.com/wp-content/uploads/2025/03/486403688_1058006943030607_1179724587045265076_n-1.jpg
END:VEVENT
BEGIN:VEVENT
DTSTART;TZID=UTC:20270528T100000
DTEND;TZID=UTC:20270528T140000
DTSTAMP:20260421T141142
CREATED:20250329T190121Z
LAST-MODIFIED:20250330T082550Z
UID:10001165-1811498400-1811512800@mail.bycartonstudio.com
SUMMARY:המוזיאון פתוח לביקורים
DESCRIPTION:[vc_row][vc_column][vc_column_text]ימי שישי מ-10:00 עד 14:00\nביקורים מודרכים במוזיאון הקרטון וסדנאות יצירה עם גלילי קרטון. \n– כניסה אומנותית – 20 ש"ח למשתתף\n– סדנאות עם גלילי קרטון בתוספת של 30 ש"ח\nהביקור כולל סיור בחלל המוזיאון\, מפגש עם האמנית לולה אליאן קצ'קה –\nאמנית פלסטית ומעצבת מוצר\, המציגה את גישתה –\n"Cardboard State Of Mind" ואת הדרך שהובילה אותה לעולם הקרטון. \n  \n[/vc_column_text][/vc_column][/vc_row]
URL:https://mail.bycartonstudio.com/event/open-museum/2027-05-28/
CATEGORIES:blue-background
ATTACH;FMTTYPE=image/jpeg:https://mail.bycartonstudio.com/wp-content/uploads/2021/01/carton-museum-home.jpg
END:VEVENT
BEGIN:VEVENT
DTSTART;TZID=UTC:20270531T083000
DTEND;TZID=UTC:20270531T100000
DTSTAMP:20260421T141142
CREATED:20250329T154746Z
LAST-MODIFIED:20250329T185329Z
UID:10000901-1811752200-1811757600@mail.bycartonstudio.com
SUMMARY:שיעורי יוגה -  בהנחיית טל דייגי
DESCRIPTION:
URL:https://mail.bycartonstudio.com/event/yoga-tal/2027-05-31/
CATEGORIES:purple-background
ATTACH;FMTTYPE=image/jpeg:https://mail.bycartonstudio.com/wp-content/uploads/2025/03/485977597_1058006946363940_2181646170934385506_n.jpg
END:VEVENT
END:VCALENDAR