BEGIN:VCALENDAR
VERSION:2.0
PRODID:-//Carton Studio - ECPv6.10.3//NONSGML v1.0//EN
CALSCALE:GREGORIAN
METHOD:PUBLISH
X-ORIGINAL-URL:https://mail.bycartonstudio.com
X-WR-CALDESC:Events for Carton Studio
REFRESH-INTERVAL;VALUE=DURATION:PT1H
X-Robots-Tag:noindex
X-PUBLISHED-TTL:PT1H
BEGIN:VTIMEZONE
TZID:UTC
BEGIN:STANDARD
TZOFFSETFROM:+0000
TZOFFSETTO:+0000
TZNAME:UTC
DTSTART:20270101T000000
END:STANDARD
END:VTIMEZONE
BEGIN:VEVENT
DTSTART;TZID=UTC:20270301T083000
DTEND;TZID=UTC:20270301T100000
DTSTAMP:20260421T112804
CREATED:20250329T154746Z
LAST-MODIFIED:20250329T185329Z
UID:10000888-1803889800-1803895200@mail.bycartonstudio.com
SUMMARY:שיעורי יוגה -  בהנחיית טל דייגי
DESCRIPTION:
URL:https://mail.bycartonstudio.com/event/yoga-tal/2027-03-01/
CATEGORIES:purple-background
ATTACH;FMTTYPE=image/jpeg:https://mail.bycartonstudio.com/wp-content/uploads/2025/03/485977597_1058006946363940_2181646170934385506_n.jpg
END:VEVENT
BEGIN:VEVENT
DTSTART;TZID=UTC:20270303T200000
DTEND;TZID=UTC:20270303T210000
DTSTAMP:20260421T112804
CREATED:20250329T150627Z
LAST-MODIFIED:20250329T154125Z
UID:10000626-1804104000-1804107600@mail.bycartonstudio.com
SUMMARY:סשן תנועה עם רז רוזנבלו
DESCRIPTION:  \n 
URL:https://mail.bycartonstudio.com/event/dance-sessions/2027-03-03/
CATEGORIES:pink background
ATTACH;FMTTYPE=image/jpeg:https://mail.bycartonstudio.com/wp-content/uploads/2025/03/486403688_1058006943030607_1179724587045265076_n-1.jpg
END:VEVENT
BEGIN:VEVENT
DTSTART;TZID=UTC:20270305T100000
DTEND;TZID=UTC:20270305T140000
DTSTAMP:20260421T112804
CREATED:20250329T190121Z
LAST-MODIFIED:20250330T082550Z
UID:10001153-1804240800-1804255200@mail.bycartonstudio.com
SUMMARY:המוזיאון פתוח לביקורים
DESCRIPTION:[vc_row][vc_column][vc_column_text]ימי שישי מ-10:00 עד 14:00\nביקורים מודרכים במוזיאון הקרטון וסדנאות יצירה עם גלילי קרטון. \n– כניסה אומנותית – 20 ש"ח למשתתף\n– סדנאות עם גלילי קרטון בתוספת של 30 ש"ח\nהביקור כולל סיור בחלל המוזיאון\, מפגש עם האמנית לולה אליאן קצ'קה –\nאמנית פלסטית ומעצבת מוצר\, המציגה את גישתה –\n"Cardboard State Of Mind" ואת הדרך שהובילה אותה לעולם הקרטון. \n  \n[/vc_column_text][/vc_column][/vc_row]
URL:https://mail.bycartonstudio.com/event/open-museum/2027-03-05/
CATEGORIES:blue-background
ATTACH;FMTTYPE=image/jpeg:https://mail.bycartonstudio.com/wp-content/uploads/2021/01/carton-museum-home.jpg
END:VEVENT
BEGIN:VEVENT
DTSTART;TZID=UTC:20270308T083000
DTEND;TZID=UTC:20270308T100000
DTSTAMP:20260421T112804
CREATED:20250329T154746Z
LAST-MODIFIED:20250329T185329Z
UID:10000889-1804494600-1804500000@mail.bycartonstudio.com
SUMMARY:שיעורי יוגה -  בהנחיית טל דייגי
DESCRIPTION:
URL:https://mail.bycartonstudio.com/event/yoga-tal/2027-03-08/
CATEGORIES:purple-background
ATTACH;FMTTYPE=image/jpeg:https://mail.bycartonstudio.com/wp-content/uploads/2025/03/485977597_1058006946363940_2181646170934385506_n.jpg
END:VEVENT
BEGIN:VEVENT
DTSTART;TZID=UTC:20270310T200000
DTEND;TZID=UTC:20270310T210000
DTSTAMP:20260421T112804
CREATED:20250329T150627Z
LAST-MODIFIED:20250329T154125Z
UID:10000627-1804708800-1804712400@mail.bycartonstudio.com
SUMMARY:סשן תנועה עם רז רוזנבלו
DESCRIPTION:  \n 
URL:https://mail.bycartonstudio.com/event/dance-sessions/2027-03-10/
CATEGORIES:pink background
ATTACH;FMTTYPE=image/jpeg:https://mail.bycartonstudio.com/wp-content/uploads/2025/03/486403688_1058006943030607_1179724587045265076_n-1.jpg
END:VEVENT
BEGIN:VEVENT
DTSTART;TZID=UTC:20270312T100000
DTEND;TZID=UTC:20270312T140000
DTSTAMP:20260421T112804
CREATED:20250329T190121Z
LAST-MODIFIED:20250330T082550Z
UID:10001154-1804845600-1804860000@mail.bycartonstudio.com
SUMMARY:המוזיאון פתוח לביקורים
DESCRIPTION:[vc_row][vc_column][vc_column_text]ימי שישי מ-10:00 עד 14:00\nביקורים מודרכים במוזיאון הקרטון וסדנאות יצירה עם גלילי קרטון. \n– כניסה אומנותית – 20 ש"ח למשתתף\n– סדנאות עם גלילי קרטון בתוספת של 30 ש"ח\nהביקור כולל סיור בחלל המוזיאון\, מפגש עם האמנית לולה אליאן קצ'קה –\nאמנית פלסטית ומעצבת מוצר\, המציגה את גישתה –\n"Cardboard State Of Mind" ואת הדרך שהובילה אותה לעולם הקרטון. \n  \n[/vc_column_text][/vc_column][/vc_row]
URL:https://mail.bycartonstudio.com/event/open-museum/2027-03-12/
CATEGORIES:blue-background
ATTACH;FMTTYPE=image/jpeg:https://mail.bycartonstudio.com/wp-content/uploads/2021/01/carton-museum-home.jpg
END:VEVENT
BEGIN:VEVENT
DTSTART;TZID=UTC:20270315T083000
DTEND;TZID=UTC:20270315T100000
DTSTAMP:20260421T112804
CREATED:20250329T154746Z
LAST-MODIFIED:20250329T185329Z
UID:10000890-1805099400-1805104800@mail.bycartonstudio.com
SUMMARY:שיעורי יוגה -  בהנחיית טל דייגי
DESCRIPTION:
URL:https://mail.bycartonstudio.com/event/yoga-tal/2027-03-15/
CATEGORIES:purple-background
ATTACH;FMTTYPE=image/jpeg:https://mail.bycartonstudio.com/wp-content/uploads/2025/03/485977597_1058006946363940_2181646170934385506_n.jpg
END:VEVENT
BEGIN:VEVENT
DTSTART;TZID=UTC:20270317T200000
DTEND;TZID=UTC:20270317T210000
DTSTAMP:20260421T112804
CREATED:20250329T150627Z
LAST-MODIFIED:20250329T154125Z
UID:10000628-1805313600-1805317200@mail.bycartonstudio.com
SUMMARY:סשן תנועה עם רז רוזנבלו
DESCRIPTION:  \n 
URL:https://mail.bycartonstudio.com/event/dance-sessions/2027-03-17/
CATEGORIES:pink background
ATTACH;FMTTYPE=image/jpeg:https://mail.bycartonstudio.com/wp-content/uploads/2025/03/486403688_1058006943030607_1179724587045265076_n-1.jpg
END:VEVENT
BEGIN:VEVENT
DTSTART;TZID=UTC:20270319T100000
DTEND;TZID=UTC:20270319T140000
DTSTAMP:20260421T112804
CREATED:20250329T190121Z
LAST-MODIFIED:20250330T082550Z
UID:10001155-1805450400-1805464800@mail.bycartonstudio.com
SUMMARY:המוזיאון פתוח לביקורים
DESCRIPTION:[vc_row][vc_column][vc_column_text]ימי שישי מ-10:00 עד 14:00\nביקורים מודרכים במוזיאון הקרטון וסדנאות יצירה עם גלילי קרטון. \n– כניסה אומנותית – 20 ש"ח למשתתף\n– סדנאות עם גלילי קרטון בתוספת של 30 ש"ח\nהביקור כולל סיור בחלל המוזיאון\, מפגש עם האמנית לולה אליאן קצ'קה –\nאמנית פלסטית ומעצבת מוצר\, המציגה את גישתה –\n"Cardboard State Of Mind" ואת הדרך שהובילה אותה לעולם הקרטון. \n  \n[/vc_column_text][/vc_column][/vc_row]
URL:https://mail.bycartonstudio.com/event/open-museum/2027-03-19/
CATEGORIES:blue-background
ATTACH;FMTTYPE=image/jpeg:https://mail.bycartonstudio.com/wp-content/uploads/2021/01/carton-museum-home.jpg
END:VEVENT
BEGIN:VEVENT
DTSTART;TZID=UTC:20270322T083000
DTEND;TZID=UTC:20270322T100000
DTSTAMP:20260421T112804
CREATED:20250329T154746Z
LAST-MODIFIED:20250329T185329Z
UID:10000891-1805704200-1805709600@mail.bycartonstudio.com
SUMMARY:שיעורי יוגה -  בהנחיית טל דייגי
DESCRIPTION:
URL:https://mail.bycartonstudio.com/event/yoga-tal/2027-03-22/
CATEGORIES:purple-background
ATTACH;FMTTYPE=image/jpeg:https://mail.bycartonstudio.com/wp-content/uploads/2025/03/485977597_1058006946363940_2181646170934385506_n.jpg
END:VEVENT
BEGIN:VEVENT
DTSTART;TZID=UTC:20270324T200000
DTEND;TZID=UTC:20270324T210000
DTSTAMP:20260421T112804
CREATED:20250329T150627Z
LAST-MODIFIED:20250329T154125Z
UID:10000629-1805918400-1805922000@mail.bycartonstudio.com
SUMMARY:סשן תנועה עם רז רוזנבלו
DESCRIPTION:  \n 
URL:https://mail.bycartonstudio.com/event/dance-sessions/2027-03-24/
CATEGORIES:pink background
ATTACH;FMTTYPE=image/jpeg:https://mail.bycartonstudio.com/wp-content/uploads/2025/03/486403688_1058006943030607_1179724587045265076_n-1.jpg
END:VEVENT
BEGIN:VEVENT
DTSTART;TZID=UTC:20270326T100000
DTEND;TZID=UTC:20270326T140000
DTSTAMP:20260421T112804
CREATED:20250329T190121Z
LAST-MODIFIED:20250330T082550Z
UID:10001156-1806055200-1806069600@mail.bycartonstudio.com
SUMMARY:המוזיאון פתוח לביקורים
DESCRIPTION:[vc_row][vc_column][vc_column_text]ימי שישי מ-10:00 עד 14:00\nביקורים מודרכים במוזיאון הקרטון וסדנאות יצירה עם גלילי קרטון. \n– כניסה אומנותית – 20 ש"ח למשתתף\n– סדנאות עם גלילי קרטון בתוספת של 30 ש"ח\nהביקור כולל סיור בחלל המוזיאון\, מפגש עם האמנית לולה אליאן קצ'קה –\nאמנית פלסטית ומעצבת מוצר\, המציגה את גישתה –\n"Cardboard State Of Mind" ואת הדרך שהובילה אותה לעולם הקרטון. \n  \n[/vc_column_text][/vc_column][/vc_row]
URL:https://mail.bycartonstudio.com/event/open-museum/2027-03-26/
CATEGORIES:blue-background
ATTACH;FMTTYPE=image/jpeg:https://mail.bycartonstudio.com/wp-content/uploads/2021/01/carton-museum-home.jpg
END:VEVENT
BEGIN:VEVENT
DTSTART;TZID=UTC:20270329T083000
DTEND;TZID=UTC:20270329T100000
DTSTAMP:20260421T112804
CREATED:20250329T154746Z
LAST-MODIFIED:20250329T185329Z
UID:10000892-1806309000-1806314400@mail.bycartonstudio.com
SUMMARY:שיעורי יוגה -  בהנחיית טל דייגי
DESCRIPTION:
URL:https://mail.bycartonstudio.com/event/yoga-tal/2027-03-29/
CATEGORIES:purple-background
ATTACH;FMTTYPE=image/jpeg:https://mail.bycartonstudio.com/wp-content/uploads/2025/03/485977597_1058006946363940_2181646170934385506_n.jpg
END:VEVENT
BEGIN:VEVENT
DTSTART;TZID=UTC:20270331T200000
DTEND;TZID=UTC:20270331T210000
DTSTAMP:20260421T112804
CREATED:20250329T150627Z
LAST-MODIFIED:20250329T154125Z
UID:10000630-1806523200-1806526800@mail.bycartonstudio.com
SUMMARY:סשן תנועה עם רז רוזנבלו
DESCRIPTION:  \n 
URL:https://mail.bycartonstudio.com/event/dance-sessions/2027-03-31/
CATEGORIES:pink background
ATTACH;FMTTYPE=image/jpeg:https://mail.bycartonstudio.com/wp-content/uploads/2025/03/486403688_1058006943030607_1179724587045265076_n-1.jpg
END:VEVENT
END:VCALENDAR