BEGIN:VCALENDAR
VERSION:2.0
PRODID:-//Carton Studio - ECPv6.10.3//NONSGML v1.0//EN
CALSCALE:GREGORIAN
METHOD:PUBLISH
X-WR-CALNAME:Carton Studio
X-ORIGINAL-URL:https://mail.bycartonstudio.com
X-WR-CALDESC:Events for Carton Studio
REFRESH-INTERVAL;VALUE=DURATION:PT1H
X-Robots-Tag:noindex
X-PUBLISHED-TTL:PT1H
BEGIN:VTIMEZONE
TZID:UTC
BEGIN:STANDARD
TZOFFSETFROM:+0000
TZOFFSETTO:+0000
TZNAME:UTC
DTSTART:20280101T000000
END:STANDARD
END:VTIMEZONE
BEGIN:VEVENT
DTSTART;TZID=UTC:20280501T083000
DTEND;TZID=UTC:20280501T100000
DTSTAMP:20260422T213931
CREATED:20250329T154746Z
LAST-MODIFIED:20250329T185329Z
UID:10000949-1840782600-1840788000@mail.bycartonstudio.com
SUMMARY:שיעורי יוגה -  בהנחיית טל דייגי
DESCRIPTION:
URL:https://mail.bycartonstudio.com/event/yoga-tal/2028-05-01/
CATEGORIES:purple-background
ATTACH;FMTTYPE=image/jpeg:https://mail.bycartonstudio.com/wp-content/uploads/2025/03/485977597_1058006946363940_2181646170934385506_n.jpg
END:VEVENT
BEGIN:VEVENT
DTSTART;TZID=UTC:20280508T083000
DTEND;TZID=UTC:20280508T100000
DTSTAMP:20260422T213931
CREATED:20250329T154746Z
LAST-MODIFIED:20250329T185329Z
UID:10000950-1841387400-1841392800@mail.bycartonstudio.com
SUMMARY:שיעורי יוגה -  בהנחיית טל דייגי
DESCRIPTION:
URL:https://mail.bycartonstudio.com/event/yoga-tal/2028-05-08/
CATEGORIES:purple-background
ATTACH;FMTTYPE=image/jpeg:https://mail.bycartonstudio.com/wp-content/uploads/2025/03/485977597_1058006946363940_2181646170934385506_n.jpg
END:VEVENT
BEGIN:VEVENT
DTSTART;TZID=UTC:20280515T083000
DTEND;TZID=UTC:20280515T100000
DTSTAMP:20260422T213931
CREATED:20250329T154746Z
LAST-MODIFIED:20250329T185329Z
UID:10000951-1841992200-1841997600@mail.bycartonstudio.com
SUMMARY:שיעורי יוגה -  בהנחיית טל דייגי
DESCRIPTION:
URL:https://mail.bycartonstudio.com/event/yoga-tal/2028-05-15/
CATEGORIES:purple-background
ATTACH;FMTTYPE=image/jpeg:https://mail.bycartonstudio.com/wp-content/uploads/2025/03/485977597_1058006946363940_2181646170934385506_n.jpg
END:VEVENT
BEGIN:VEVENT
DTSTART;TZID=UTC:20280522T083000
DTEND;TZID=UTC:20280522T100000
DTSTAMP:20260422T213931
CREATED:20250329T154746Z
LAST-MODIFIED:20250329T185329Z
UID:10000952-1842597000-1842602400@mail.bycartonstudio.com
SUMMARY:שיעורי יוגה -  בהנחיית טל דייגי
DESCRIPTION:
URL:https://mail.bycartonstudio.com/event/yoga-tal/2028-05-22/
CATEGORIES:purple-background
ATTACH;FMTTYPE=image/jpeg:https://mail.bycartonstudio.com/wp-content/uploads/2025/03/485977597_1058006946363940_2181646170934385506_n.jpg
END:VEVENT
BEGIN:VEVENT
DTSTART;TZID=UTC:20280529T083000
DTEND;TZID=UTC:20280529T100000
DTSTAMP:20260422T213931
CREATED:20250329T154746Z
LAST-MODIFIED:20250329T185329Z
UID:10000953-1843201800-1843207200@mail.bycartonstudio.com
SUMMARY:שיעורי יוגה -  בהנחיית טל דייגי
DESCRIPTION:
URL:https://mail.bycartonstudio.com/event/yoga-tal/2028-05-29/
CATEGORIES:purple-background
ATTACH;FMTTYPE=image/jpeg:https://mail.bycartonstudio.com/wp-content/uploads/2025/03/485977597_1058006946363940_2181646170934385506_n.jpg
END:VEVENT
END:VCALENDAR