BEGIN:VCALENDAR
VERSION:2.0
PRODID:-//Carton Studio - ECPv6.10.3//NONSGML v1.0//EN
CALSCALE:GREGORIAN
METHOD:PUBLISH
X-ORIGINAL-URL:https://mail.bycartonstudio.com
X-WR-CALDESC:Events for Carton Studio
REFRESH-INTERVAL;VALUE=DURATION:PT1H
X-Robots-Tag:noindex
X-PUBLISHED-TTL:PT1H
BEGIN:VTIMEZONE
TZID:UTC
BEGIN:STANDARD
TZOFFSETFROM:+0000
TZOFFSETTO:+0000
TZNAME:UTC
DTSTART:20260101T000000
END:STANDARD
END:VTIMEZONE
BEGIN:VEVENT
DTSTART;TZID=UTC:20260202T083000
DTEND;TZID=UTC:20260202T100000
DTSTAMP:20260421T112803
CREATED:20250329T154746Z
LAST-MODIFIED:20250329T185329Z
UID:10000832-1770021000-1770026400@mail.bycartonstudio.com
SUMMARY:שיעורי יוגה -  בהנחיית טל דייגי
DESCRIPTION:
URL:https://mail.bycartonstudio.com/event/yoga-tal/2026-02-02/
CATEGORIES:purple-background
ATTACH;FMTTYPE=image/jpeg:https://mail.bycartonstudio.com/wp-content/uploads/2025/03/485977597_1058006946363940_2181646170934385506_n.jpg
END:VEVENT
BEGIN:VEVENT
DTSTART;TZID=UTC:20260209T083000
DTEND;TZID=UTC:20260209T100000
DTSTAMP:20260421T112803
CREATED:20250329T154746Z
LAST-MODIFIED:20250329T185329Z
UID:10000833-1770625800-1770631200@mail.bycartonstudio.com
SUMMARY:שיעורי יוגה -  בהנחיית טל דייגי
DESCRIPTION:
URL:https://mail.bycartonstudio.com/event/yoga-tal/2026-02-09/
CATEGORIES:purple-background
ATTACH;FMTTYPE=image/jpeg:https://mail.bycartonstudio.com/wp-content/uploads/2025/03/485977597_1058006946363940_2181646170934385506_n.jpg
END:VEVENT
BEGIN:VEVENT
DTSTART;TZID=UTC:20260216T083000
DTEND;TZID=UTC:20260216T100000
DTSTAMP:20260421T112803
CREATED:20250329T154746Z
LAST-MODIFIED:20250329T185329Z
UID:10000834-1771230600-1771236000@mail.bycartonstudio.com
SUMMARY:שיעורי יוגה -  בהנחיית טל דייגי
DESCRIPTION:
URL:https://mail.bycartonstudio.com/event/yoga-tal/2026-02-16/
CATEGORIES:purple-background
ATTACH;FMTTYPE=image/jpeg:https://mail.bycartonstudio.com/wp-content/uploads/2025/03/485977597_1058006946363940_2181646170934385506_n.jpg
END:VEVENT
BEGIN:VEVENT
DTSTART;TZID=UTC:20260223T083000
DTEND;TZID=UTC:20260223T100000
DTSTAMP:20260421T112803
CREATED:20250329T154746Z
LAST-MODIFIED:20250329T185329Z
UID:10000835-1771835400-1771840800@mail.bycartonstudio.com
SUMMARY:שיעורי יוגה -  בהנחיית טל דייגי
DESCRIPTION:
URL:https://mail.bycartonstudio.com/event/yoga-tal/2026-02-23/
CATEGORIES:purple-background
ATTACH;FMTTYPE=image/jpeg:https://mail.bycartonstudio.com/wp-content/uploads/2025/03/485977597_1058006946363940_2181646170934385506_n.jpg
END:VEVENT
END:VCALENDAR