BEGIN:VCALENDAR
VERSION:2.0
PRODID:-//Carton Studio - ECPv6.10.3//NONSGML v1.0//EN
CALSCALE:GREGORIAN
METHOD:PUBLISH
X-ORIGINAL-URL:https://mail.bycartonstudio.com
X-WR-CALDESC:Events for Carton Studio
REFRESH-INTERVAL;VALUE=DURATION:PT1H
X-Robots-Tag:noindex
X-PUBLISHED-TTL:PT1H
BEGIN:VTIMEZONE
TZID:UTC
BEGIN:STANDARD
TZOFFSETFROM:+0000
TZOFFSETTO:+0000
TZNAME:UTC
DTSTART:20250101T000000
END:STANDARD
END:VTIMEZONE
BEGIN:VEVENT
DTSTART;TZID=UTC:20250603T190000
DTEND;TZID=UTC:20250603T213000
DTSTAMP:20260421T213140
CREATED:20250330T090639Z
LAST-MODIFIED:20250330T090925Z
UID:10001321-1748977200-1748986200@mail.bycartonstudio.com
SUMMARY:מפגשי כתיבה
DESCRIPTION:[vc_row][vc_column][vc_column_text]לכתוב בלי לחשוב – מפגשי כתיבה.\n8 מפגשים. מתחילים ב 22.4 \nקבוצת ערב ימי שלישי 19:00-21:30\nקבוצת בוקר ימי שישי 9:30-12:00 \nלפרטים נוספים: \nשירן 052-7558884[/vc_column_text][/vc_column][/vc_row]
URL:https://mail.bycartonstudio.com/event/writing-sessions/2025-06-03/
CATEGORIES:pink-gray-background
ATTACH;FMTTYPE=image/jpeg:https://mail.bycartonstudio.com/wp-content/uploads/2025/03/486518170_1058006936363941_1657153389878450949_n.jpg
END:VEVENT
BEGIN:VEVENT
DTSTART;TZID=UTC:20250606T103000
DTEND;TZID=UTC:20250606T120000
DTSTAMP:20260421T213140
CREATED:20250330T091040Z
LAST-MODIFIED:20250330T091040Z
UID:10001337-1749205800-1749211200@mail.bycartonstudio.com
SUMMARY:מפגשי כתיבה
DESCRIPTION:[vc_row][vc_column][vc_column_text]לכתוב בלי לחשוב – מפגשי כתיבה.\n8 מפגשים. מתחילים ב 22.4 \nקבוצת ערב ימי שלישי 19:00-21:30\nקבוצת בוקר ימי שישי 9:30-12:00 \nלפרטים נוספים: \nשירן 052-7558884[/vc_column_text][/vc_column][/vc_row]
URL:https://mail.bycartonstudio.com/event/%d7%9e%d7%a4%d7%92%d7%a9%d7%99-%d7%9b%d7%aa%d7%99%d7%91%d7%94/2025-06-06/
CATEGORIES:pink-gray-background
ATTACH;FMTTYPE=image/jpeg:https://mail.bycartonstudio.com/wp-content/uploads/2025/03/486518170_1058006936363941_1657153389878450949_n.jpg
END:VEVENT
BEGIN:VEVENT
DTSTART;TZID=UTC:20250610T190000
DTEND;TZID=UTC:20250610T213000
DTSTAMP:20260421T213140
CREATED:20250330T090639Z
LAST-MODIFIED:20250330T090925Z
UID:10001322-1749582000-1749591000@mail.bycartonstudio.com
SUMMARY:מפגשי כתיבה
DESCRIPTION:[vc_row][vc_column][vc_column_text]לכתוב בלי לחשוב – מפגשי כתיבה.\n8 מפגשים. מתחילים ב 22.4 \nקבוצת ערב ימי שלישי 19:00-21:30\nקבוצת בוקר ימי שישי 9:30-12:00 \nלפרטים נוספים: \nשירן 052-7558884[/vc_column_text][/vc_column][/vc_row]
URL:https://mail.bycartonstudio.com/event/writing-sessions/2025-06-10/
CATEGORIES:pink-gray-background
ATTACH;FMTTYPE=image/jpeg:https://mail.bycartonstudio.com/wp-content/uploads/2025/03/486518170_1058006936363941_1657153389878450949_n.jpg
END:VEVENT
BEGIN:VEVENT
DTSTART;TZID=UTC:20250613T103000
DTEND;TZID=UTC:20250613T120000
DTSTAMP:20260421T213140
CREATED:20250330T091040Z
LAST-MODIFIED:20250330T091040Z
UID:10001338-1749810600-1749816000@mail.bycartonstudio.com
SUMMARY:מפגשי כתיבה
DESCRIPTION:[vc_row][vc_column][vc_column_text]לכתוב בלי לחשוב – מפגשי כתיבה.\n8 מפגשים. מתחילים ב 22.4 \nקבוצת ערב ימי שלישי 19:00-21:30\nקבוצת בוקר ימי שישי 9:30-12:00 \nלפרטים נוספים: \nשירן 052-7558884[/vc_column_text][/vc_column][/vc_row]
URL:https://mail.bycartonstudio.com/event/%d7%9e%d7%a4%d7%92%d7%a9%d7%99-%d7%9b%d7%aa%d7%99%d7%91%d7%94/2025-06-13/
CATEGORIES:pink-gray-background
ATTACH;FMTTYPE=image/jpeg:https://mail.bycartonstudio.com/wp-content/uploads/2025/03/486518170_1058006936363941_1657153389878450949_n.jpg
END:VEVENT
END:VCALENDAR